BEGIN:VCALENDAR
PRODID:-//www.pointstreak.com
VERSION:1.0
METHOD:PUBLISH
BEGIN:VEVENT
ORGANIZER;CN=Pointstreak Sports Technologies Inc.:MAILTO:support@pointstreak.com
DTSTART:20160228T024000Z
DTEND:20160228T024000Z
LOCATION;LANGUAGE=en;ENCODING=QUOTED-PRINTABLE:Columbia Playfields
TRANSP:OPAQUE
SEQUENCE:0
UID:988b227a42dc3ee76ce8cb2259f800ad
DTSTAMP:20260420T104300
CATEGORIES;LANGUAGE=en;ENCODING=QUOTED-PRINTABLE:Event
DESCRIPTION;LANGUAGE=en;ENCODING=QUOTED-PRINTABLE:SW Oregon vs Yakima Valley  / Columbia Playfields
SUMMARY;LANGUAGE=en;ENCODING=QUOTED-PRINTABLE:SW Oregon vs Yakima Valley
PRIORITY:5
CLASS:PUBLIC
URL:http://www.pointstreak.com/baseball/
STATUS:CONFIRMED
END:VEVENT
BEGIN:VEVENT
ORGANIZER;CN=Pointstreak Sports Technologies Inc.:MAILTO:support@pointstreak.com
DTSTART:20160228T071500Z
DTEND:20160228T071500Z
TRANSP:OPAQUE
SEQUENCE:0
UID:96a9fbaf622ea61515687ac2593df919
DTSTAMP:20260420T104300
CATEGORIES;LANGUAGE=en;ENCODING=QUOTED-PRINTABLE:Event
DESCRIPTION;LANGUAGE=en;ENCODING=QUOTED-PRINTABLE:Yakima Valley vs Chemeketa 
SUMMARY;LANGUAGE=en;ENCODING=QUOTED-PRINTABLE:Yakima Valley vs Chemeketa
PRIORITY:5
CLASS:PUBLIC
URL:http://www.pointstreak.com/baseball/
STATUS:CONFIRMED
END:VEVENT
BEGIN:VEVENT
ORGANIZER;CN=Pointstreak Sports Technologies Inc.:MAILTO:support@pointstreak.com
DTSTART:20160228T130000Z
DTEND:20160228T130000Z
LOCATION;LANGUAGE=en;ENCODING=QUOTED-PRINTABLE:Columbia Playfields
TRANSP:OPAQUE
SEQUENCE:0
UID:1bb0540170eda078366a9605620dc742
DTSTAMP:20260420T104300
CATEGORIES;LANGUAGE=en;ENCODING=QUOTED-PRINTABLE:Event
DESCRIPTION;LANGUAGE=en;ENCODING=QUOTED-PRINTABLE:Mt. Hood vs Yakima Valley  / Columbia Playfields
SUMMARY;LANGUAGE=en;ENCODING=QUOTED-PRINTABLE:Mt. Hood vs Yakima Valley
PRIORITY:5
CLASS:PUBLIC
URL:http://www.pointstreak.com/baseball/
STATUS:CONFIRMED
END:VEVENT
BEGIN:VEVENT
ORGANIZER;CN=Pointstreak Sports Technologies Inc.:MAILTO:support@pointstreak.com
DTSTART:20160228T150000Z
DTEND:20160228T150000Z
LOCATION;LANGUAGE=en;ENCODING=QUOTED-PRINTABLE:Columbia Playfields
TRANSP:OPAQUE
SEQUENCE:0
UID:20f1825c058df8a93d332103885b288c
DTSTAMP:20260420T104300
CATEGORIES;LANGUAGE=en;ENCODING=QUOTED-PRINTABLE:Event
DESCRIPTION;LANGUAGE=en;ENCODING=QUOTED-PRINTABLE:Yakima Valley vs Highline  / Columbia Playfields
SUMMARY;LANGUAGE=en;ENCODING=QUOTED-PRINTABLE:Yakima Valley vs Highline
PRIORITY:5
CLASS:PUBLIC
URL:http://www.pointstreak.com/baseball/
STATUS:CONFIRMED
END:VEVENT
BEGIN:VEVENT
ORGANIZER;CN=Pointstreak Sports Technologies Inc.:MAILTO:support@pointstreak.com
DTSTART:20160305T180000Z
DTEND:20160305T180000Z
LOCATION;LANGUAGE=en;ENCODING=QUOTED-PRINTABLE:Dunbar Field
TRANSP:OPAQUE
SEQUENCE:0
UID:3a0c9ffd9c7f398b641e36709363f795
DTSTAMP:20260420T104300
CATEGORIES;LANGUAGE=en;ENCODING=QUOTED-PRINTABLE:Event
DESCRIPTION;LANGUAGE=en;ENCODING=QUOTED-PRINTABLE:Yakima Valley vs Everett  / Dunbar Field
SUMMARY;LANGUAGE=en;ENCODING=QUOTED-PRINTABLE:Yakima Valley vs Everett
PRIORITY:5
CLASS:PUBLIC
URL:http://www.pointstreak.com/baseball/
STATUS:CONFIRMED
END:VEVENT
BEGIN:VEVENT
ORGANIZER;CN=Pointstreak Sports Technologies Inc.:MAILTO:support@pointstreak.com
DTSTART:20160305T200000Z
DTEND:20160305T200000Z
LOCATION;LANGUAGE=en;ENCODING=QUOTED-PRINTABLE:Dunbar Field
TRANSP:OPAQUE
SEQUENCE:0
UID:f2db31ecfbb8dfe59f12a9f44aedf1e9
DTSTAMP:20260420T104300
CATEGORIES;LANGUAGE=en;ENCODING=QUOTED-PRINTABLE:Event
DESCRIPTION;LANGUAGE=en;ENCODING=QUOTED-PRINTABLE:Yakima Valley vs Everett  / Dunbar Field
SUMMARY;LANGUAGE=en;ENCODING=QUOTED-PRINTABLE:Yakima Valley vs Everett
PRIORITY:5
CLASS:PUBLIC
URL:http://www.pointstreak.com/baseball/
STATUS:CONFIRMED
END:VEVENT
BEGIN:VEVENT
ORGANIZER;CN=Pointstreak Sports Technologies Inc.:MAILTO:support@pointstreak.com
DTSTART:20160312T190000Z
DTEND:20160312T190000Z
LOCATION;LANGUAGE=en;ENCODING=QUOTED-PRINTABLE:Dunbar Field
TRANSP:OPAQUE
SEQUENCE:0
UID:064785e25d10b271cb6035e6fd103023
DTSTAMP:20260420T104300
CATEGORIES;LANGUAGE=en;ENCODING=QUOTED-PRINTABLE:Event
DESCRIPTION;LANGUAGE=en;ENCODING=QUOTED-PRINTABLE:Yakima Valley vs Pierce  / Dunbar Field
SUMMARY;LANGUAGE=en;ENCODING=QUOTED-PRINTABLE:Yakima Valley vs Pierce
PRIORITY:5
CLASS:PUBLIC
URL:http://www.pointstreak.com/baseball/
STATUS:CONFIRMED
END:VEVENT
BEGIN:VEVENT
ORGANIZER;CN=Pointstreak Sports Technologies Inc.:MAILTO:support@pointstreak.com
DTSTART:20160312T210000Z
DTEND:20160312T210000Z
LOCATION;LANGUAGE=en;ENCODING=QUOTED-PRINTABLE:Dunbar Field
TRANSP:OPAQUE
SEQUENCE:0
UID:8f72a08b042664476b350ea0b8453559
DTSTAMP:20260420T104300
CATEGORIES;LANGUAGE=en;ENCODING=QUOTED-PRINTABLE:Event
DESCRIPTION;LANGUAGE=en;ENCODING=QUOTED-PRINTABLE:Yakima Valley vs Pierce  / Dunbar Field
SUMMARY;LANGUAGE=en;ENCODING=QUOTED-PRINTABLE:Yakima Valley vs Pierce
PRIORITY:5
CLASS:PUBLIC
URL:http://www.pointstreak.com/baseball/
STATUS:CONFIRMED
END:VEVENT
BEGIN:VEVENT
ORGANIZER;CN=Pointstreak Sports Technologies Inc.:MAILTO:support@pointstreak.com
DTSTART:20160318T190000Z
DTEND:20160318T190000Z
TRANSP:OPAQUE
SEQUENCE:0
UID:0838a47ab07b98defca3c9607caf030a
DTSTAMP:20260420T104300
CATEGORIES;LANGUAGE=en;ENCODING=QUOTED-PRINTABLE:Event
DESCRIPTION;LANGUAGE=en;ENCODING=QUOTED-PRINTABLE:Big Bend vs Yakima Valley 
SUMMARY;LANGUAGE=en;ENCODING=QUOTED-PRINTABLE:Big Bend vs Yakima Valley
PRIORITY:5
CLASS:PUBLIC
URL:http://www.pointstreak.com/baseball/
STATUS:CONFIRMED
END:VEVENT
BEGIN:VEVENT
ORGANIZER;CN=Pointstreak Sports Technologies Inc.:MAILTO:support@pointstreak.com
DTSTART:20160318T210000Z
DTEND:20160318T210000Z
TRANSP:OPAQUE
SEQUENCE:0
UID:6138bcf05614a232cde6314191140489
DTSTAMP:20260420T104300
CATEGORIES;LANGUAGE=en;ENCODING=QUOTED-PRINTABLE:Event
DESCRIPTION;LANGUAGE=en;ENCODING=QUOTED-PRINTABLE:Big Bend vs Yakima Valley 
SUMMARY;LANGUAGE=en;ENCODING=QUOTED-PRINTABLE:Big Bend vs Yakima Valley
PRIORITY:5
CLASS:PUBLIC
URL:http://www.pointstreak.com/baseball/
STATUS:CONFIRMED
END:VEVENT
BEGIN:VEVENT
ORGANIZER;CN=Pointstreak Sports Technologies Inc.:MAILTO:support@pointstreak.com
DTSTART:20160319T190000Z
DTEND:20160319T190000Z
LOCATION;LANGUAGE=en;ENCODING=QUOTED-PRINTABLE:CBC Softball Field
TRANSP:OPAQUE
SEQUENCE:0
UID:cdce0c20f5a97ecd0d857fae2b743997
DTSTAMP:20260420T104300
CATEGORIES;LANGUAGE=en;ENCODING=QUOTED-PRINTABLE:Event
DESCRIPTION;LANGUAGE=en;ENCODING=QUOTED-PRINTABLE:Columbia Basin vs Yakima Valley  / CBC Softball Field
SUMMARY;LANGUAGE=en;ENCODING=QUOTED-PRINTABLE:Columbia Basin vs Yakima Valley
PRIORITY:5
CLASS:PUBLIC
URL:http://www.pointstreak.com/baseball/
STATUS:CONFIRMED
END:VEVENT
BEGIN:VEVENT
ORGANIZER;CN=Pointstreak Sports Technologies Inc.:MAILTO:support@pointstreak.com
DTSTART:20160319T203000Z
DTEND:20160319T203000Z
LOCATION;LANGUAGE=en;ENCODING=QUOTED-PRINTABLE:CBC Softball Field
TRANSP:OPAQUE
SEQUENCE:0
UID:0dd5ed2b263872d1951350c134822a08
DTSTAMP:20260420T104300
CATEGORIES;LANGUAGE=en;ENCODING=QUOTED-PRINTABLE:Event
DESCRIPTION;LANGUAGE=en;ENCODING=QUOTED-PRINTABLE:Columbia Basin vs Yakima Valley  / CBC Softball Field
SUMMARY;LANGUAGE=en;ENCODING=QUOTED-PRINTABLE:Columbia Basin vs Yakima Valley
PRIORITY:5
CLASS:PUBLIC
URL:http://www.pointstreak.com/baseball/
STATUS:CONFIRMED
END:VEVENT
BEGIN:VEVENT
ORGANIZER;CN=Pointstreak Sports Technologies Inc.:MAILTO:support@pointstreak.com
DTSTART:20160325T214100Z
DTEND:20160325T214100Z
LOCATION;LANGUAGE=en;ENCODING=QUOTED-PRINTABLE:Dunbar Field
TRANSP:OPAQUE
SEQUENCE:0
UID:741b91d62142a9c5787a51346a2f6b41
DTSTAMP:20260420T104300
CATEGORIES;LANGUAGE=en;ENCODING=QUOTED-PRINTABLE:Event
DESCRIPTION;LANGUAGE=en;ENCODING=QUOTED-PRINTABLE:Yakima Valley vs Walla Walla  / Dunbar Field
SUMMARY;LANGUAGE=en;ENCODING=QUOTED-PRINTABLE:Yakima Valley vs Walla Walla
PRIORITY:5
CLASS:PUBLIC
URL:http://www.pointstreak.com/baseball/
STATUS:CONFIRMED
END:VEVENT
BEGIN:VEVENT
ORGANIZER;CN=Pointstreak Sports Technologies Inc.:MAILTO:support@pointstreak.com
DTSTART:20160325T220300Z
DTEND:20160325T220300Z
LOCATION;LANGUAGE=en;ENCODING=QUOTED-PRINTABLE:Dunbar Field
TRANSP:OPAQUE
SEQUENCE:0
UID:45558e1be2c456c31ed6ad76b1acc296
DTSTAMP:20260420T104300
CATEGORIES;LANGUAGE=en;ENCODING=QUOTED-PRINTABLE:Event
DESCRIPTION;LANGUAGE=en;ENCODING=QUOTED-PRINTABLE:Yakima Valley vs Walla Walla  / Dunbar Field
SUMMARY;LANGUAGE=en;ENCODING=QUOTED-PRINTABLE:Yakima Valley vs Walla Walla
PRIORITY:5
CLASS:PUBLIC
URL:http://www.pointstreak.com/baseball/
STATUS:CONFIRMED
END:VEVENT
BEGIN:VEVENT
ORGANIZER;CN=Pointstreak Sports Technologies Inc.:MAILTO:support@pointstreak.com
DTSTART:20160326T213400Z
DTEND:20160326T213400Z
LOCATION;LANGUAGE=en;ENCODING=QUOTED-PRINTABLE:Dunbar Field
TRANSP:OPAQUE
SEQUENCE:0
UID:feedeb89985e44f9bf9514b7f4733509
DTSTAMP:20260420T104300
CATEGORIES;LANGUAGE=en;ENCODING=QUOTED-PRINTABLE:Event
DESCRIPTION;LANGUAGE=en;ENCODING=QUOTED-PRINTABLE:Yakima Valley vs Treasure Valley  / Dunbar Field
SUMMARY;LANGUAGE=en;ENCODING=QUOTED-PRINTABLE:Yakima Valley vs Treasure Valley
PRIORITY:5
CLASS:PUBLIC
URL:http://www.pointstreak.com/baseball/
STATUS:CONFIRMED
END:VEVENT
BEGIN:VEVENT
ORGANIZER;CN=Pointstreak Sports Technologies Inc.:MAILTO:support@pointstreak.com
DTSTART:20160326T215400Z
DTEND:20160326T215400Z
LOCATION;LANGUAGE=en;ENCODING=QUOTED-PRINTABLE:Dunbar Field
TRANSP:OPAQUE
SEQUENCE:0
UID:1f447a58ce0cf74dfe95241513f8c6c5
DTSTAMP:20260420T104300
CATEGORIES;LANGUAGE=en;ENCODING=QUOTED-PRINTABLE:Event
DESCRIPTION;LANGUAGE=en;ENCODING=QUOTED-PRINTABLE:Yakima Valley vs Treasure Valley  / Dunbar Field
SUMMARY;LANGUAGE=en;ENCODING=QUOTED-PRINTABLE:Yakima Valley vs Treasure Valley
PRIORITY:5
CLASS:PUBLIC
URL:http://www.pointstreak.com/baseball/
STATUS:CONFIRMED
END:VEVENT
BEGIN:VEVENT
ORGANIZER;CN=Pointstreak Sports Technologies Inc.:MAILTO:support@pointstreak.com
DTSTART:20160401T180000Z
DTEND:20160401T180000Z
LOCATION;LANGUAGE=en;ENCODING=QUOTED-PRINTABLE:Dunbar Field
TRANSP:OPAQUE
SEQUENCE:0
UID:eb9a44e2a83f4538215e4946e658eeb2
DTSTAMP:20260420T104300
CATEGORIES;LANGUAGE=en;ENCODING=QUOTED-PRINTABLE:Event
DESCRIPTION;LANGUAGE=en;ENCODING=QUOTED-PRINTABLE:Yakima Valley vs Spokane  / Dunbar Field
SUMMARY;LANGUAGE=en;ENCODING=QUOTED-PRINTABLE:Yakima Valley vs Spokane
PRIORITY:5
CLASS:PUBLIC
URL:http://www.pointstreak.com/baseball/
STATUS:CONFIRMED
END:VEVENT
BEGIN:VEVENT
ORGANIZER;CN=Pointstreak Sports Technologies Inc.:MAILTO:support@pointstreak.com
DTSTART:20160401T200000Z
DTEND:20160401T200000Z
LOCATION;LANGUAGE=en;ENCODING=QUOTED-PRINTABLE:Dunbar Field
TRANSP:OPAQUE
SEQUENCE:0
UID:96c779ee285908ec1e816375f5673949
DTSTAMP:20260420T104300
CATEGORIES;LANGUAGE=en;ENCODING=QUOTED-PRINTABLE:Event
DESCRIPTION;LANGUAGE=en;ENCODING=QUOTED-PRINTABLE:Yakima Valley vs Spokane  / Dunbar Field
SUMMARY;LANGUAGE=en;ENCODING=QUOTED-PRINTABLE:Yakima Valley vs Spokane
PRIORITY:5
CLASS:PUBLIC
URL:http://www.pointstreak.com/baseball/
STATUS:CONFIRMED
END:VEVENT
BEGIN:VEVENT
ORGANIZER;CN=Pointstreak Sports Technologies Inc.:MAILTO:support@pointstreak.com
DTSTART:20160402T225700Z
DTEND:20160402T225700Z
LOCATION;LANGUAGE=en;ENCODING=QUOTED-PRINTABLE:Dunbar Field
TRANSP:OPAQUE
SEQUENCE:0
UID:b8ea9b9a9db6a06d04732492d8700c33
DTSTAMP:20260420T104300
CATEGORIES;LANGUAGE=en;ENCODING=QUOTED-PRINTABLE:Event
DESCRIPTION;LANGUAGE=en;ENCODING=QUOTED-PRINTABLE:Yakima Valley vs North Idaho  / Dunbar Field
SUMMARY;LANGUAGE=en;ENCODING=QUOTED-PRINTABLE:Yakima Valley vs North Idaho
PRIORITY:5
CLASS:PUBLIC
URL:http://www.pointstreak.com/baseball/
STATUS:CONFIRMED
END:VEVENT
BEGIN:VEVENT
ORGANIZER;CN=Pointstreak Sports Technologies Inc.:MAILTO:support@pointstreak.com
DTSTART:20160402T233000Z
DTEND:20160402T233000Z
LOCATION;LANGUAGE=en;ENCODING=QUOTED-PRINTABLE:Dunbar Field
TRANSP:OPAQUE
SEQUENCE:0
UID:0cc1e91292c7b265794b4c7a1c167519
DTSTAMP:20260420T104300
CATEGORIES;LANGUAGE=en;ENCODING=QUOTED-PRINTABLE:Event
DESCRIPTION;LANGUAGE=en;ENCODING=QUOTED-PRINTABLE:Yakima Valley vs North Idaho  / Dunbar Field
SUMMARY;LANGUAGE=en;ENCODING=QUOTED-PRINTABLE:Yakima Valley vs North Idaho
PRIORITY:5
CLASS:PUBLIC
URL:http://www.pointstreak.com/baseball/
STATUS:CONFIRMED
END:VEVENT
BEGIN:VEVENT
ORGANIZER;CN=Pointstreak Sports Technologies Inc.:MAILTO:support@pointstreak.com
DTSTART:20160406T233900Z
DTEND:20160406T233900Z
LOCATION;LANGUAGE=en;ENCODING=QUOTED-PRINTABLE:Dunbar Field
TRANSP:OPAQUE
SEQUENCE:0
UID:7f32734106b9fb11e2767f5eae080870
DTSTAMP:20260420T104300
CATEGORIES;LANGUAGE=en;ENCODING=QUOTED-PRINTABLE:Event
DESCRIPTION;LANGUAGE=en;ENCODING=QUOTED-PRINTABLE:Yakima Valley vs Wenatchee Valley  / Dunbar Field
SUMMARY;LANGUAGE=en;ENCODING=QUOTED-PRINTABLE:Yakima Valley vs Wenatchee Valley
PRIORITY:5
CLASS:PUBLIC
URL:http://www.pointstreak.com/baseball/
STATUS:CONFIRMED
END:VEVENT
BEGIN:VEVENT
ORGANIZER;CN=Pointstreak Sports Technologies Inc.:MAILTO:support@pointstreak.com
DTSTART:20160406T235800Z
DTEND:20160406T235800Z
LOCATION;LANGUAGE=en;ENCODING=QUOTED-PRINTABLE:Dunbar Field
TRANSP:OPAQUE
SEQUENCE:0
UID:2fc4e07da89e5c13e6fa4c8e1290631b
DTSTAMP:20260420T104300
CATEGORIES;LANGUAGE=en;ENCODING=QUOTED-PRINTABLE:Event
DESCRIPTION;LANGUAGE=en;ENCODING=QUOTED-PRINTABLE:Yakima Valley vs Wenatchee Valley  / Dunbar Field
SUMMARY;LANGUAGE=en;ENCODING=QUOTED-PRINTABLE:Yakima Valley vs Wenatchee Valley
PRIORITY:5
CLASS:PUBLIC
URL:http://www.pointstreak.com/baseball/
STATUS:CONFIRMED
END:VEVENT
BEGIN:VEVENT
ORGANIZER;CN=Pointstreak Sports Technologies Inc.:MAILTO:support@pointstreak.com
DTSTART:20160410T190000Z
DTEND:20160410T190000Z
LOCATION;LANGUAGE=en;ENCODING=QUOTED-PRINTABLE:BMCC Softball Field
TRANSP:OPAQUE
SEQUENCE:0
UID:bea7c3aa5987d467d71e41496f95c812
DTSTAMP:20260420T104300
CATEGORIES;LANGUAGE=en;ENCODING=QUOTED-PRINTABLE:Event
DESCRIPTION;LANGUAGE=en;ENCODING=QUOTED-PRINTABLE:Blue Mountain vs Yakima Valley  / BMCC Softball Field
SUMMARY;LANGUAGE=en;ENCODING=QUOTED-PRINTABLE:Blue Mountain vs Yakima Valley
PRIORITY:5
CLASS:PUBLIC
URL:http://www.pointstreak.com/baseball/
STATUS:CONFIRMED
END:VEVENT
BEGIN:VEVENT
ORGANIZER;CN=Pointstreak Sports Technologies Inc.:MAILTO:support@pointstreak.com
DTSTART:20160410T213500Z
DTEND:20160410T213500Z
LOCATION;LANGUAGE=en;ENCODING=QUOTED-PRINTABLE:BMCC Softball Field
TRANSP:OPAQUE
SEQUENCE:0
UID:0d69850a42f769c28404ed5374696515
DTSTAMP:20260420T104300
CATEGORIES;LANGUAGE=en;ENCODING=QUOTED-PRINTABLE:Event
DESCRIPTION;LANGUAGE=en;ENCODING=QUOTED-PRINTABLE:Blue Mountain vs Yakima Valley  / BMCC Softball Field
SUMMARY;LANGUAGE=en;ENCODING=QUOTED-PRINTABLE:Blue Mountain vs Yakima Valley
PRIORITY:5
CLASS:PUBLIC
URL:http://www.pointstreak.com/baseball/
STATUS:CONFIRMED
END:VEVENT
BEGIN:VEVENT
ORGANIZER;CN=Pointstreak Sports Technologies Inc.:MAILTO:support@pointstreak.com
DTSTART:20160416T173100Z
DTEND:20160416T173100Z
LOCATION;LANGUAGE=en;ENCODING=QUOTED-PRINTABLE:Kiwanis
TRANSP:OPAQUE
SEQUENCE:0
UID:eaf56aa77aa19c5257601e74b41d5b42
DTSTAMP:20260420T104300
CATEGORIES;LANGUAGE=en;ENCODING=QUOTED-PRINTABLE:Event
DESCRIPTION;LANGUAGE=en;ENCODING=QUOTED-PRINTABLE:Yakima Valley vs Clackamas  / Kiwanis
SUMMARY;LANGUAGE=en;ENCODING=QUOTED-PRINTABLE:Yakima Valley vs Clackamas
PRIORITY:5
CLASS:PUBLIC
URL:http://www.pointstreak.com/baseball/
STATUS:CONFIRMED
END:VEVENT
BEGIN:VEVENT
ORGANIZER;CN=Pointstreak Sports Technologies Inc.:MAILTO:support@pointstreak.com
DTSTART:20160416T183000Z
DTEND:20160416T183000Z
LOCATION;LANGUAGE=en;ENCODING=QUOTED-PRINTABLE:Gateway Complex
TRANSP:OPAQUE
SEQUENCE:0
UID:b708789cea35fb318dcdc32de2bba86b
DTSTAMP:20260420T104300
CATEGORIES;LANGUAGE=en;ENCODING=QUOTED-PRINTABLE:Event
DESCRIPTION;LANGUAGE=en;ENCODING=QUOTED-PRINTABLE:Grays Harbor vs Yakima Valley  / Gateway Complex
SUMMARY;LANGUAGE=en;ENCODING=QUOTED-PRINTABLE:Grays Harbor vs Yakima Valley
PRIORITY:5
CLASS:PUBLIC
URL:http://www.pointstreak.com/baseball/
STATUS:CONFIRMED
END:VEVENT
BEGIN:VEVENT
ORGANIZER;CN=Pointstreak Sports Technologies Inc.:MAILTO:support@pointstreak.com
DTSTART:20160417T180000Z
DTEND:20160417T180000Z
LOCATION;LANGUAGE=en;ENCODING=QUOTED-PRINTABLE:Kiwanis
TRANSP:OPAQUE
SEQUENCE:0
UID:e00d2ce630819d8d2636af4810d164ef
DTSTAMP:20260420T104300
CATEGORIES;LANGUAGE=en;ENCODING=QUOTED-PRINTABLE:Event
DESCRIPTION;LANGUAGE=en;ENCODING=QUOTED-PRINTABLE:Yakima Valley vs Lower Columbia  / Kiwanis
SUMMARY;LANGUAGE=en;ENCODING=QUOTED-PRINTABLE:Yakima Valley vs Lower Columbia
PRIORITY:5
CLASS:PUBLIC
URL:http://www.pointstreak.com/baseball/
STATUS:CONFIRMED
END:VEVENT
BEGIN:VEVENT
ORGANIZER;CN=Pointstreak Sports Technologies Inc.:MAILTO:support@pointstreak.com
DTSTART:20160418T005200Z
DTEND:20160418T005200Z
LOCATION;LANGUAGE=en;ENCODING=QUOTED-PRINTABLE:Kiwanis
TRANSP:OPAQUE
SEQUENCE:0
UID:414aa735e62c9f2ffc0399d31b172208
DTSTAMP:20260420T104300
CATEGORIES;LANGUAGE=en;ENCODING=QUOTED-PRINTABLE:Event
DESCRIPTION;LANGUAGE=en;ENCODING=QUOTED-PRINTABLE:Edmonds vs Yakima Valley  / Kiwanis
SUMMARY;LANGUAGE=en;ENCODING=QUOTED-PRINTABLE:Edmonds vs Yakima Valley
PRIORITY:5
CLASS:PUBLIC
URL:http://www.pointstreak.com/baseball/
STATUS:CONFIRMED
END:VEVENT
BEGIN:VEVENT
ORGANIZER;CN=Pointstreak Sports Technologies Inc.:MAILTO:support@pointstreak.com
DTSTART:20160423T130200Z
DTEND:20160423T130200Z
LOCATION;LANGUAGE=en;ENCODING=QUOTED-PRINTABLE:Dunbar Field
TRANSP:OPAQUE
SEQUENCE:0
UID:3cd0637abfb304186096e7b26fd26285
DTSTAMP:20260420T104300
CATEGORIES;LANGUAGE=en;ENCODING=QUOTED-PRINTABLE:Event
DESCRIPTION;LANGUAGE=en;ENCODING=QUOTED-PRINTABLE:Yakima Valley vs Columbia Basin  / Dunbar Field
SUMMARY;LANGUAGE=en;ENCODING=QUOTED-PRINTABLE:Yakima Valley vs Columbia Basin
PRIORITY:5
CLASS:PUBLIC
URL:http://www.pointstreak.com/baseball/
STATUS:CONFIRMED
END:VEVENT
BEGIN:VEVENT
ORGANIZER;CN=Pointstreak Sports Technologies Inc.:MAILTO:support@pointstreak.com
DTSTART:20160423T132500Z
DTEND:20160423T132500Z
LOCATION;LANGUAGE=en;ENCODING=QUOTED-PRINTABLE:Dunbar Field
TRANSP:OPAQUE
SEQUENCE:0
UID:b06d59d0fb0c34386f180c68144c0893
DTSTAMP:20260420T104300
CATEGORIES;LANGUAGE=en;ENCODING=QUOTED-PRINTABLE:Event
DESCRIPTION;LANGUAGE=en;ENCODING=QUOTED-PRINTABLE:Yakima Valley vs Columbia Basin  / Dunbar Field
SUMMARY;LANGUAGE=en;ENCODING=QUOTED-PRINTABLE:Yakima Valley vs Columbia Basin
PRIORITY:5
CLASS:PUBLIC
URL:http://www.pointstreak.com/baseball/
STATUS:CONFIRMED
END:VEVENT
BEGIN:VEVENT
ORGANIZER;CN=Pointstreak Sports Technologies Inc.:MAILTO:support@pointstreak.com
DTSTART:20160423T160000Z
DTEND:20160423T160000Z
LOCATION;LANGUAGE=en;ENCODING=QUOTED-PRINTABLE:Dunbar Field
TRANSP:OPAQUE
SEQUENCE:0
UID:1195de87a79f0ff1a72e41bba0cbf83b
DTSTAMP:20260420T104300
CATEGORIES;LANGUAGE=en;ENCODING=QUOTED-PRINTABLE:Event
DESCRIPTION;LANGUAGE=en;ENCODING=QUOTED-PRINTABLE:Yakima Valley vs Big Bend  / Dunbar Field
SUMMARY;LANGUAGE=en;ENCODING=QUOTED-PRINTABLE:Yakima Valley vs Big Bend
PRIORITY:5
CLASS:PUBLIC
URL:http://www.pointstreak.com/baseball/
STATUS:CONFIRMED
END:VEVENT
BEGIN:VEVENT
ORGANIZER;CN=Pointstreak Sports Technologies Inc.:MAILTO:support@pointstreak.com
DTSTART:20160423T180000Z
DTEND:20160423T180000Z
LOCATION;LANGUAGE=en;ENCODING=QUOTED-PRINTABLE:Dunbar Field
TRANSP:OPAQUE
SEQUENCE:0
UID:9741664c36e1efc5acbc6241b930f46a
DTSTAMP:20260420T104300
CATEGORIES;LANGUAGE=en;ENCODING=QUOTED-PRINTABLE:Event
DESCRIPTION;LANGUAGE=en;ENCODING=QUOTED-PRINTABLE:Yakima Valley vs Big Bend  / Dunbar Field
SUMMARY;LANGUAGE=en;ENCODING=QUOTED-PRINTABLE:Yakima Valley vs Big Bend
PRIORITY:5
CLASS:PUBLIC
URL:http://www.pointstreak.com/baseball/
STATUS:CONFIRMED
END:VEVENT
BEGIN:VEVENT
ORGANIZER;CN=Pointstreak Sports Technologies Inc.:MAILTO:support@pointstreak.com
DTSTART:20160429T210000Z
DTEND:20160429T210000Z
LOCATION;LANGUAGE=en;ENCODING=QUOTED-PRINTABLE:Heinz/Ore-Ida Regional Softball Complex
TRANSP:OPAQUE
SEQUENCE:0
UID:e9f1befc3e33b29f912bc193d73357c7
DTSTAMP:20260420T104300
CATEGORIES;LANGUAGE=en;ENCODING=QUOTED-PRINTABLE:Event
DESCRIPTION;LANGUAGE=en;ENCODING=QUOTED-PRINTABLE:Treasure Valley vs Yakima Valley  / Heinz/Ore-Ida Regional Softball Complex
SUMMARY;LANGUAGE=en;ENCODING=QUOTED-PRINTABLE:Treasure Valley vs Yakima Valley
PRIORITY:5
CLASS:PUBLIC
URL:http://www.pointstreak.com/baseball/
STATUS:CONFIRMED
END:VEVENT
BEGIN:VEVENT
ORGANIZER;CN=Pointstreak Sports Technologies Inc.:MAILTO:support@pointstreak.com
DTSTART:20160429T230000Z
DTEND:20160429T230000Z
LOCATION;LANGUAGE=en;ENCODING=QUOTED-PRINTABLE:Heinz/Ore-Ida Regional Softball Complex
TRANSP:OPAQUE
SEQUENCE:0
UID:f79ad357df2c8e2e789ab329c6bc489a
DTSTAMP:20260420T104300
CATEGORIES;LANGUAGE=en;ENCODING=QUOTED-PRINTABLE:Event
DESCRIPTION;LANGUAGE=en;ENCODING=QUOTED-PRINTABLE:Treasure Valley vs Yakima Valley  / Heinz/Ore-Ida Regional Softball Complex
SUMMARY;LANGUAGE=en;ENCODING=QUOTED-PRINTABLE:Treasure Valley vs Yakima Valley
PRIORITY:5
CLASS:PUBLIC
URL:http://www.pointstreak.com/baseball/
STATUS:CONFIRMED
END:VEVENT
BEGIN:VEVENT
ORGANIZER;CN=Pointstreak Sports Technologies Inc.:MAILTO:support@pointstreak.com
DTSTART:20160430T155700Z
DTEND:20160430T155700Z
LOCATION;LANGUAGE=en;ENCODING=QUOTED-PRINTABLE:Walla Walla Community College Softball Field
TRANSP:OPAQUE
SEQUENCE:0
UID:eede8452820e7413d7e3337ca1e7f117
DTSTAMP:20260420T104300
CATEGORIES;LANGUAGE=en;ENCODING=QUOTED-PRINTABLE:Event
DESCRIPTION;LANGUAGE=en;ENCODING=QUOTED-PRINTABLE:Walla Walla vs Yakima Valley  / Walla Walla Community College Softball Field
SUMMARY;LANGUAGE=en;ENCODING=QUOTED-PRINTABLE:Walla Walla vs Yakima Valley
PRIORITY:5
CLASS:PUBLIC
URL:http://www.pointstreak.com/baseball/
STATUS:CONFIRMED
END:VEVENT
BEGIN:VEVENT
ORGANIZER;CN=Pointstreak Sports Technologies Inc.:MAILTO:support@pointstreak.com
DTSTART:20160430T181400Z
DTEND:20160430T181400Z
LOCATION;LANGUAGE=en;ENCODING=QUOTED-PRINTABLE:Walla Walla Community College Softball Field
TRANSP:OPAQUE
SEQUENCE:0
UID:698b47c5211db0e10adaeeea1f10430c
DTSTAMP:20260420T104300
CATEGORIES;LANGUAGE=en;ENCODING=QUOTED-PRINTABLE:Event
DESCRIPTION;LANGUAGE=en;ENCODING=QUOTED-PRINTABLE:Walla Walla vs Yakima Valley  / Walla Walla Community College Softball Field
SUMMARY;LANGUAGE=en;ENCODING=QUOTED-PRINTABLE:Walla Walla vs Yakima Valley
PRIORITY:5
CLASS:PUBLIC
URL:http://www.pointstreak.com/baseball/
STATUS:CONFIRMED
END:VEVENT
BEGIN:VEVENT
ORGANIZER;CN=Pointstreak Sports Technologies Inc.:MAILTO:support@pointstreak.com
DTSTART:20160506T215900Z
DTEND:20160506T215900Z
LOCATION;LANGUAGE=en;ENCODING=QUOTED-PRINTABLE:North Idaho Community College
TRANSP:OPAQUE
SEQUENCE:0
UID:c181b8d1c1e930b7fc8e69cb837192c5
DTSTAMP:20260420T104300
CATEGORIES;LANGUAGE=en;ENCODING=QUOTED-PRINTABLE:Event
DESCRIPTION;LANGUAGE=en;ENCODING=QUOTED-PRINTABLE:North Idaho vs Yakima Valley  / North Idaho Community College
SUMMARY;LANGUAGE=en;ENCODING=QUOTED-PRINTABLE:North Idaho vs Yakima Valley
PRIORITY:5
CLASS:PUBLIC
URL:http://www.pointstreak.com/baseball/
STATUS:CONFIRMED
END:VEVENT
BEGIN:VEVENT
ORGANIZER;CN=Pointstreak Sports Technologies Inc.:MAILTO:support@pointstreak.com
DTSTART:20160507T022100Z
DTEND:20160507T022100Z
LOCATION;LANGUAGE=en;ENCODING=QUOTED-PRINTABLE:North Idaho Community College
TRANSP:OPAQUE
SEQUENCE:0
UID:6ffe9c15095b2075bf1542171cba47c2
DTSTAMP:20260420T104300
CATEGORIES;LANGUAGE=en;ENCODING=QUOTED-PRINTABLE:Event
DESCRIPTION;LANGUAGE=en;ENCODING=QUOTED-PRINTABLE:North Idaho vs Yakima Valley  / North Idaho Community College
SUMMARY;LANGUAGE=en;ENCODING=QUOTED-PRINTABLE:North Idaho vs Yakima Valley
PRIORITY:5
CLASS:PUBLIC
URL:http://www.pointstreak.com/baseball/
STATUS:CONFIRMED
END:VEVENT
BEGIN:VEVENT
ORGANIZER;CN=Pointstreak Sports Technologies Inc.:MAILTO:support@pointstreak.com
DTSTART:20160507T114300Z
DTEND:20160507T114300Z
LOCATION;LANGUAGE=en;ENCODING=QUOTED-PRINTABLE:Spokane Falls Community College Softball Field
TRANSP:OPAQUE
SEQUENCE:0
UID:0fc2b4e3255dadfadc3da33e8c148f23
DTSTAMP:20260420T104300
CATEGORIES;LANGUAGE=en;ENCODING=QUOTED-PRINTABLE:Event
DESCRIPTION;LANGUAGE=en;ENCODING=QUOTED-PRINTABLE:Spokane vs Yakima Valley  / Spokane Falls Community College Softball Field
SUMMARY;LANGUAGE=en;ENCODING=QUOTED-PRINTABLE:Spokane vs Yakima Valley
PRIORITY:5
CLASS:PUBLIC
URL:http://www.pointstreak.com/baseball/
STATUS:CONFIRMED
END:VEVENT
BEGIN:VEVENT
ORGANIZER;CN=Pointstreak Sports Technologies Inc.:MAILTO:support@pointstreak.com
DTSTART:20160507T121600Z
DTEND:20160507T121600Z
LOCATION;LANGUAGE=en;ENCODING=QUOTED-PRINTABLE:Spokane Falls Community College Softball Field
TRANSP:OPAQUE
SEQUENCE:0
UID:2dd9edc639d9107ca2c2b259b93e90cc
DTSTAMP:20260420T104300
CATEGORIES;LANGUAGE=en;ENCODING=QUOTED-PRINTABLE:Event
DESCRIPTION;LANGUAGE=en;ENCODING=QUOTED-PRINTABLE:Spokane vs Yakima Valley  / Spokane Falls Community College Softball Field
SUMMARY;LANGUAGE=en;ENCODING=QUOTED-PRINTABLE:Spokane vs Yakima Valley
PRIORITY:5
CLASS:PUBLIC
URL:http://www.pointstreak.com/baseball/
STATUS:CONFIRMED
END:VEVENT
BEGIN:VEVENT
ORGANIZER;CN=Pointstreak Sports Technologies Inc.:MAILTO:support@pointstreak.com
DTSTART:20160511T210000Z
DTEND:20160511T210000Z
LOCATION;LANGUAGE=en;ENCODING=QUOTED-PRINTABLE:North Rotary Park
TRANSP:OPAQUE
SEQUENCE:0
UID:48198ecaa2e38c488960ce492918c48a
DTSTAMP:20260420T104300
CATEGORIES;LANGUAGE=en;ENCODING=QUOTED-PRINTABLE:Event
DESCRIPTION;LANGUAGE=en;ENCODING=QUOTED-PRINTABLE:Wenatchee Valley vs Yakima Valley  / North Rotary Park
SUMMARY;LANGUAGE=en;ENCODING=QUOTED-PRINTABLE:Wenatchee Valley vs Yakima Valley
PRIORITY:5
CLASS:PUBLIC
URL:http://www.pointstreak.com/baseball/
STATUS:CONFIRMED
END:VEVENT
BEGIN:VEVENT
ORGANIZER;CN=Pointstreak Sports Technologies Inc.:MAILTO:support@pointstreak.com
DTSTART:20160511T230000Z
DTEND:20160511T230000Z
LOCATION;LANGUAGE=en;ENCODING=QUOTED-PRINTABLE:North Rotary Park
TRANSP:OPAQUE
SEQUENCE:0
UID:ae24eb7fe7859f16f6fcb41207bcb15e
DTSTAMP:20260420T104300
CATEGORIES;LANGUAGE=en;ENCODING=QUOTED-PRINTABLE:Event
DESCRIPTION;LANGUAGE=en;ENCODING=QUOTED-PRINTABLE:Wenatchee Valley vs Yakima Valley  / North Rotary Park
SUMMARY;LANGUAGE=en;ENCODING=QUOTED-PRINTABLE:Wenatchee Valley vs Yakima Valley
PRIORITY:5
CLASS:PUBLIC
URL:http://www.pointstreak.com/baseball/
STATUS:CONFIRMED
END:VEVENT
BEGIN:VEVENT
ORGANIZER;CN=Pointstreak Sports Technologies Inc.:MAILTO:support@pointstreak.com
DTSTART:20160514T004400Z
DTEND:20160514T004400Z
LOCATION;LANGUAGE=en;ENCODING=QUOTED-PRINTABLE:Dunbar Field
TRANSP:OPAQUE
SEQUENCE:0
UID:2ed0aeeca8b4d018840ec7d4ea311139
DTSTAMP:20260420T104300
CATEGORIES;LANGUAGE=en;ENCODING=QUOTED-PRINTABLE:Event
DESCRIPTION;LANGUAGE=en;ENCODING=QUOTED-PRINTABLE:Yakima Valley vs Blue Mountain  / Dunbar Field
SUMMARY;LANGUAGE=en;ENCODING=QUOTED-PRINTABLE:Yakima Valley vs Blue Mountain
PRIORITY:5
CLASS:PUBLIC
URL:http://www.pointstreak.com/baseball/
STATUS:CONFIRMED
END:VEVENT
BEGIN:VEVENT
ORGANIZER;CN=Pointstreak Sports Technologies Inc.:MAILTO:support@pointstreak.com
DTSTART:20160514T010000Z
DTEND:20160514T010000Z
LOCATION;LANGUAGE=en;ENCODING=QUOTED-PRINTABLE:Dunbar Field
TRANSP:OPAQUE
SEQUENCE:0
UID:9f17b4737122914754d63f13ea0741a9
DTSTAMP:20260420T104300
CATEGORIES;LANGUAGE=en;ENCODING=QUOTED-PRINTABLE:Event
DESCRIPTION;LANGUAGE=en;ENCODING=QUOTED-PRINTABLE:Yakima Valley vs Blue Mountain  / Dunbar Field
SUMMARY;LANGUAGE=en;ENCODING=QUOTED-PRINTABLE:Yakima Valley vs Blue Mountain
PRIORITY:5
CLASS:PUBLIC
URL:http://www.pointstreak.com/baseball/
STATUS:CONFIRMED
END:VEVENT
END:VCALENDAR

