BEGIN:VCALENDAR
PRODID:-//www.pointstreak.com
VERSION:1.0
METHOD:PUBLISH
BEGIN:VEVENT
ORGANIZER;CN=Pointstreak Sports Technologies Inc.:MAILTO:support@pointstreak.com
DTSTART:20120804T130000Z
DTEND:20120804T130000Z
LOCATION;LANGUAGE=en;ENCODING=QUOTED-PRINTABLE:La Ley Sports Complex #6
TRANSP:OPAQUE
SEQUENCE:0
UID:57f9bb695fcf9ab134c948b87ab45d1f
DTSTAMP:20260421T013800
CATEGORIES;LANGUAGE=en;ENCODING=QUOTED-PRINTABLE:Event
DESCRIPTION;LANGUAGE=en;ENCODING=QUOTED-PRINTABLE:LL Marlins vs Miami Sluggers  / La Ley Sports Complex #6
SUMMARY;LANGUAGE=en;ENCODING=QUOTED-PRINTABLE:LL Marlins vs Miami Sluggers
PRIORITY:5
CLASS:PUBLIC
URL:http://www.pointstreak.com/baseball/
STATUS:CONFIRMED
END:VEVENT
BEGIN:VEVENT
ORGANIZER;CN=Pointstreak Sports Technologies Inc.:MAILTO:support@pointstreak.com
DTSTART:20120805T150000Z
DTEND:20120805T150000Z
LOCATION;LANGUAGE=en;ENCODING=QUOTED-PRINTABLE:La Ley Sports Complex #6
TRANSP:OPAQUE
SEQUENCE:0
UID:d23e8985e8eccc13756e61405e5f0674
DTSTAMP:20260421T013800
CATEGORIES;LANGUAGE=en;ENCODING=QUOTED-PRINTABLE:Event
DESCRIPTION;LANGUAGE=en;ENCODING=QUOTED-PRINTABLE:Latino Americana vs Miami Sluggers  / La Ley Sports Complex #6
SUMMARY;LANGUAGE=en;ENCODING=QUOTED-PRINTABLE:Latino Americana vs Miami Sluggers
PRIORITY:5
CLASS:PUBLIC
URL:http://www.pointstreak.com/baseball/
STATUS:CONFIRMED
END:VEVENT
BEGIN:VEVENT
ORGANIZER;CN=Pointstreak Sports Technologies Inc.:MAILTO:support@pointstreak.com
DTSTART:20120805T190000Z
DTEND:20120805T190000Z
LOCATION;LANGUAGE=en;ENCODING=QUOTED-PRINTABLE:La Ley Sports Complex #6
TRANSP:OPAQUE
SEQUENCE:0
UID:617e280637579e07b49110bc49dc836b
DTSTAMP:20260421T013800
CATEGORIES;LANGUAGE=en;ENCODING=QUOTED-PRINTABLE:Event
DESCRIPTION;LANGUAGE=en;ENCODING=QUOTED-PRINTABLE:Club Deportivo Panama vs Miami Sluggers  / La Ley Sports Complex #6
SUMMARY;LANGUAGE=en;ENCODING=QUOTED-PRINTABLE:Club Deportivo Panama vs Miami Sluggers
PRIORITY:5
CLASS:PUBLIC
URL:http://www.pointstreak.com/baseball/
STATUS:CONFIRMED
END:VEVENT
BEGIN:VEVENT
ORGANIZER;CN=Pointstreak Sports Technologies Inc.:MAILTO:support@pointstreak.com
DTSTART:20120806T230000Z
DTEND:20120806T230000Z
LOCATION;LANGUAGE=en;ENCODING=QUOTED-PRINTABLE:La Ley Sports Complex #6
TRANSP:OPAQUE
SEQUENCE:0
UID:b4f58af720b0800a1bd1acc4a29363b3
DTSTAMP:20260421T013800
CATEGORIES;LANGUAGE=en;ENCODING=QUOTED-PRINTABLE:Event
DESCRIPTION;LANGUAGE=en;ENCODING=QUOTED-PRINTABLE:Aces By I.B.A.H.S. vs Miami Sluggers  / La Ley Sports Complex #6
SUMMARY;LANGUAGE=en;ENCODING=QUOTED-PRINTABLE:Aces By I.B.A.H.S. vs Miami Sluggers
PRIORITY:5
CLASS:PUBLIC
URL:http://www.pointstreak.com/baseball/
STATUS:CONFIRMED
END:VEVENT
BEGIN:VEVENT
ORGANIZER;CN=Pointstreak Sports Technologies Inc.:MAILTO:support@pointstreak.com
DTSTART:20120808T230000Z
DTEND:20120808T230000Z
LOCATION;LANGUAGE=en;ENCODING=QUOTED-PRINTABLE:La Ley Sports Complex #6
TRANSP:OPAQUE
SEQUENCE:0
UID:93c508ea7abbe149196b07e2580b4ca9
DTSTAMP:20260421T013800
CATEGORIES;LANGUAGE=en;ENCODING=QUOTED-PRINTABLE:Event
DESCRIPTION;LANGUAGE=en;ENCODING=QUOTED-PRINTABLE:Miami Sluggers vs Makos  / La Ley Sports Complex #6
SUMMARY;LANGUAGE=en;ENCODING=QUOTED-PRINTABLE:Miami Sluggers vs Makos
PRIORITY:5
CLASS:PUBLIC
URL:http://www.pointstreak.com/baseball/
STATUS:CONFIRMED
END:VEVENT
BEGIN:VEVENT
ORGANIZER;CN=Pointstreak Sports Technologies Inc.:MAILTO:support@pointstreak.com
DTSTART:20120809T230000Z
DTEND:20120809T230000Z
LOCATION;LANGUAGE=en;ENCODING=QUOTED-PRINTABLE:La Ley Sports Complex #6
TRANSP:OPAQUE
SEQUENCE:0
UID:fcb773ad1935fedc3317dae91316f3d0
DTSTAMP:20260421T013800
CATEGORIES;LANGUAGE=en;ENCODING=QUOTED-PRINTABLE:Event
DESCRIPTION;LANGUAGE=en;ENCODING=QUOTED-PRINTABLE:Latino Americana vs Miami Sluggers  / La Ley Sports Complex #6
SUMMARY;LANGUAGE=en;ENCODING=QUOTED-PRINTABLE:Latino Americana vs Miami Sluggers
PRIORITY:5
CLASS:PUBLIC
URL:http://www.pointstreak.com/baseball/
STATUS:CONFIRMED
END:VEVENT
END:VCALENDAR

