BEGIN:VCALENDAR
PRODID:-//www.pointstreak.com
VERSION:1.0
METHOD:PUBLISH
BEGIN:VEVENT
ORGANIZER;CN=Pointstreak Sports Technologies Inc.:MAILTO:support@pointstreak.com
DTSTART:20120804T190000Z
DTEND:20120804T190000Z
LOCATION;LANGUAGE=en;ENCODING=QUOTED-PRINTABLE:La Ley Sports Complex #8
TRANSP:OPAQUE
SEQUENCE:0
UID:2c1e7c0b4b23c42555efd8e6cc552f2a
DTSTAMP:20260420T054700
CATEGORIES;LANGUAGE=en;ENCODING=QUOTED-PRINTABLE:Event
DESCRIPTION;LANGUAGE=en;ENCODING=QUOTED-PRINTABLE:PL Wildcats vs South Florida Force  / La Ley Sports Complex #8
SUMMARY;LANGUAGE=en;ENCODING=QUOTED-PRINTABLE:PL Wildcats vs South Florida Force
PRIORITY:5
CLASS:PUBLIC
URL:http://www.pointstreak.com/baseball/
STATUS:CONFIRMED
END:VEVENT
BEGIN:VEVENT
ORGANIZER;CN=Pointstreak Sports Technologies Inc.:MAILTO:support@pointstreak.com
DTSTART:20120805T130000Z
DTEND:20120805T130000Z
LOCATION;LANGUAGE=en;ENCODING=QUOTED-PRINTABLE:La Ley Sports Complex #8
TRANSP:OPAQUE
SEQUENCE:0
UID:87db8eaaba311e025c3c7eb2adf71952
DTSTAMP:20260420T054700
CATEGORIES;LANGUAGE=en;ENCODING=QUOTED-PRINTABLE:Event
DESCRIPTION;LANGUAGE=en;ENCODING=QUOTED-PRINTABLE:South Florida Force vs Miami Prospects  / La Ley Sports Complex #8
SUMMARY;LANGUAGE=en;ENCODING=QUOTED-PRINTABLE:South Florida Force vs Miami Prospects
PRIORITY:5
CLASS:PUBLIC
URL:http://www.pointstreak.com/baseball/
STATUS:CONFIRMED
END:VEVENT
BEGIN:VEVENT
ORGANIZER;CN=Pointstreak Sports Technologies Inc.:MAILTO:support@pointstreak.com
DTSTART:20120805T150000Z
DTEND:20120805T150000Z
LOCATION;LANGUAGE=en;ENCODING=QUOTED-PRINTABLE:La Ley Sports Complex #8
TRANSP:OPAQUE
SEQUENCE:0
UID:d23e8985e8eccc13756e61405e5f0674
DTSTAMP:20260420T054700
CATEGORIES;LANGUAGE=en;ENCODING=QUOTED-PRINTABLE:Event
DESCRIPTION;LANGUAGE=en;ENCODING=QUOTED-PRINTABLE:Trincheras 2 vs South Florida Force  / La Ley Sports Complex #8
SUMMARY;LANGUAGE=en;ENCODING=QUOTED-PRINTABLE:Trincheras 2 vs South Florida Force
PRIORITY:5
CLASS:PUBLIC
URL:http://www.pointstreak.com/baseball/
STATUS:CONFIRMED
END:VEVENT
BEGIN:VEVENT
ORGANIZER;CN=Pointstreak Sports Technologies Inc.:MAILTO:support@pointstreak.com
DTSTART:20120807T190000Z
DTEND:20120807T190000Z
LOCATION;LANGUAGE=en;ENCODING=QUOTED-PRINTABLE:La Ley Sports Complex #8
TRANSP:OPAQUE
SEQUENCE:0
UID:ddc725b53559c9aa01bdb99e9bcdf2f4
DTSTAMP:20260420T054700
CATEGORIES;LANGUAGE=en;ENCODING=QUOTED-PRINTABLE:Event
DESCRIPTION;LANGUAGE=en;ENCODING=QUOTED-PRINTABLE:South Florida Force vs Trincheras 1  / La Ley Sports Complex #8
SUMMARY;LANGUAGE=en;ENCODING=QUOTED-PRINTABLE:South Florida Force vs Trincheras 1
PRIORITY:5
CLASS:PUBLIC
URL:http://www.pointstreak.com/baseball/
STATUS:CONFIRMED
END:VEVENT
END:VCALENDAR

