BEGIN:VCALENDAR
PRODID:-//www.pointstreak.com
VERSION:1.0
METHOD:PUBLISH
BEGIN:VEVENT
ORGANIZER;CN=Pointstreak Sports Technologies Inc.:MAILTO:support@pointstreak.com
DTSTART:20110323T192700Z
DTEND:20110323T192700Z
LOCATION;LANGUAGE=en;ENCODING=QUOTED-PRINTABLE:Miami Palmetto
TRANSP:OPAQUE
SEQUENCE:0
UID:ed6cc979996e1bd64917c131a6fec598
DTSTAMP:20260420T154200
CATEGORIES;LANGUAGE=en;ENCODING=QUOTED-PRINTABLE:Event
DESCRIPTION;LANGUAGE=en;ENCODING=QUOTED-PRINTABLE:Palmetto Panthers vs Barron Collier  / Miami Palmetto
SUMMARY;LANGUAGE=en;ENCODING=QUOTED-PRINTABLE:Palmetto Panthers vs Barron Collier
PRIORITY:5
CLASS:PUBLIC
URL:http://www.pointstreak.com/baseball/
STATUS:CONFIRMED
END:VEVENT
END:VCALENDAR

