BEGIN:VCALENDAR
PRODID:-//www.pointstreak.com
VERSION:1.0
METHOD:PUBLISH
BEGIN:VEVENT
ORGANIZER;CN=Pointstreak Sports Technologies Inc.:MAILTO:support@pointstreak.com
DTSTART:20110513T010000Z
DTEND:20110513T010000Z
LOCATION;LANGUAGE=en;ENCODING=QUOTED-PRINTABLE:San Antonio Johnson
TRANSP:OPAQUE
SEQUENCE:0
UID:21fc381733cd8b16f88bde0828f4931f
DTSTAMP:20260420T133100
CATEGORIES;LANGUAGE=en;ENCODING=QUOTED-PRINTABLE:Event
DESCRIPTION;LANGUAGE=en;ENCODING=QUOTED-PRINTABLE:San Antonio Johnson vs Corpus Christi Mary Carroll  / San Antonio Johnson
SUMMARY;LANGUAGE=en;ENCODING=QUOTED-PRINTABLE:San Antonio Johnson vs Corpus Christi Mary Carroll
PRIORITY:5
CLASS:PUBLIC
URL:http://www.pointstreak.com/baseball/
STATUS:CONFIRMED
END:VEVENT
BEGIN:VEVENT
ORGANIZER;CN=Pointstreak Sports Technologies Inc.:MAILTO:support@pointstreak.com
DTSTART:20110514T170000Z
DTEND:20110514T170000Z
LOCATION;LANGUAGE=en;ENCODING=QUOTED-PRINTABLE:Alice
TRANSP:OPAQUE
SEQUENCE:0
UID:63f9d9b1e55e846424855dbe96079522
DTSTAMP:20260420T133100
CATEGORIES;LANGUAGE=en;ENCODING=QUOTED-PRINTABLE:Event
DESCRIPTION;LANGUAGE=en;ENCODING=QUOTED-PRINTABLE:Corpus Christi Mary Carroll vs San Antonio Johnson  / Alice
SUMMARY;LANGUAGE=en;ENCODING=QUOTED-PRINTABLE:Corpus Christi Mary Carroll vs San Antonio Johnson
PRIORITY:5
CLASS:PUBLIC
URL:http://www.pointstreak.com/baseball/
STATUS:CONFIRMED
END:VEVENT
BEGIN:VEVENT
ORGANIZER;CN=Pointstreak Sports Technologies Inc.:MAILTO:support@pointstreak.com
DTSTART:20110514T200000Z
DTEND:20110514T200000Z
LOCATION;LANGUAGE=en;ENCODING=QUOTED-PRINTABLE:Alice
TRANSP:OPAQUE
SEQUENCE:0
UID:6eb126420731a07cc9f9650d49e60cf1
DTSTAMP:20260420T133100
CATEGORIES;LANGUAGE=en;ENCODING=QUOTED-PRINTABLE:Event
DESCRIPTION;LANGUAGE=en;ENCODING=QUOTED-PRINTABLE:San Antonio Johnson vs Corpus Christi Mary Carroll  / Alice
SUMMARY;LANGUAGE=en;ENCODING=QUOTED-PRINTABLE:San Antonio Johnson vs Corpus Christi Mary Carroll
PRIORITY:5
CLASS:PUBLIC
URL:http://www.pointstreak.com/baseball/
STATUS:CONFIRMED
END:VEVENT
END:VCALENDAR

