BEGIN:VCALENDAR
PRODID:-//www.pointstreak.com
VERSION:1.0
METHOD:PUBLISH
BEGIN:VEVENT
ORGANIZER;CN=Pointstreak Sports Technologies Inc.:MAILTO:support@pointstreak.com
DTSTART:20110307T220900Z
DTEND:20110307T220900Z
TRANSP:OPAQUE
SEQUENCE:0
UID:78e2ddb6027b18c5381d86ace5dc7469
DTSTAMP:20260420T123900
CATEGORIES;LANGUAGE=en;ENCODING=QUOTED-PRINTABLE:Event
DESCRIPTION;LANGUAGE=en;ENCODING=QUOTED-PRINTABLE:Humble vs Fort Bend Kempner 
SUMMARY;LANGUAGE=en;ENCODING=QUOTED-PRINTABLE:Humble vs Fort Bend Kempner
PRIORITY:5
CLASS:PUBLIC
URL:http://www.pointstreak.com/baseball/
STATUS:CONFIRMED
END:VEVENT
BEGIN:VEVENT
ORGANIZER;CN=Pointstreak Sports Technologies Inc.:MAILTO:support@pointstreak.com
DTSTART:20110313T010300Z
DTEND:20110313T010300Z
LOCATION;LANGUAGE=en;ENCODING=QUOTED-PRINTABLE:El Campo
TRANSP:OPAQUE
SEQUENCE:0
UID:40b6f33ca86e4974e59b85f61345e115
DTSTAMP:20260420T123900
CATEGORIES;LANGUAGE=en;ENCODING=QUOTED-PRINTABLE:Event
DESCRIPTION;LANGUAGE=en;ENCODING=QUOTED-PRINTABLE:El Campo vs Fort Bend Kempner  / El Campo
SUMMARY;LANGUAGE=en;ENCODING=QUOTED-PRINTABLE:El Campo vs Fort Bend Kempner
PRIORITY:5
CLASS:PUBLIC
URL:http://www.pointstreak.com/baseball/
STATUS:CONFIRMED
END:VEVENT
BEGIN:VEVENT
ORGANIZER;CN=Pointstreak Sports Technologies Inc.:MAILTO:support@pointstreak.com
DTSTART:20110316T000200Z
DTEND:20110316T000200Z
LOCATION;LANGUAGE=en;ENCODING=QUOTED-PRINTABLE:Fort Bend Elkins
TRANSP:OPAQUE
SEQUENCE:0
UID:8bab15256888d0f13b2c06a6be2e0d7e
DTSTAMP:20260420T123900
CATEGORIES;LANGUAGE=en;ENCODING=QUOTED-PRINTABLE:Event
DESCRIPTION;LANGUAGE=en;ENCODING=QUOTED-PRINTABLE:Fort Bend Elkins vs Fort Bend Kempner  / Fort Bend Elkins
SUMMARY;LANGUAGE=en;ENCODING=QUOTED-PRINTABLE:Fort Bend Elkins vs Fort Bend Kempner
PRIORITY:5
CLASS:PUBLIC
URL:http://www.pointstreak.com/baseball/
STATUS:CONFIRMED
END:VEVENT
BEGIN:VEVENT
ORGANIZER;CN=Pointstreak Sports Technologies Inc.:MAILTO:support@pointstreak.com
DTSTART:20110406T000000Z
DTEND:20110406T000000Z
LOCATION;LANGUAGE=en;ENCODING=QUOTED-PRINTABLE:Fort Bend Kempner
TRANSP:OPAQUE
SEQUENCE:0
UID:9cee35dd3173d7d751ccc0c5d0111349
DTSTAMP:20260420T123900
CATEGORIES;LANGUAGE=en;ENCODING=QUOTED-PRINTABLE:Event
DESCRIPTION;LANGUAGE=en;ENCODING=QUOTED-PRINTABLE:Fort Bend Kempner vs Fort Bend Elkins  / Fort Bend Kempner
SUMMARY;LANGUAGE=en;ENCODING=QUOTED-PRINTABLE:Fort Bend Kempner vs Fort Bend Elkins
PRIORITY:5
CLASS:PUBLIC
URL:http://www.pointstreak.com/baseball/
STATUS:CONFIRMED
END:VEVENT
END:VCALENDAR

