BEGIN:VCALENDAR
PRODID:-//www.pointstreak.com
VERSION:1.0
METHOD:PUBLISH
BEGIN:VEVENT
ORGANIZER;CN=Pointstreak Sports Technologies Inc.:MAILTO:support@pointstreak.com
DTSTART:20100709T231100Z
DTEND:20100709T231100Z
LOCATION;LANGUAGE=en;ENCODING=QUOTED-PRINTABLE:Historic Sanford Memorial Stadium
TRANSP:OPAQUE
SEQUENCE:0
UID:50f888aeb3bd152d462635e90deed01e
DTSTAMP:20260420T100700
CATEGORIES;LANGUAGE=en;ENCODING=QUOTED-PRINTABLE:Event
DESCRIPTION;LANGUAGE=en;ENCODING=QUOTED-PRINTABLE:Sanford River Rats vs US9 Armed Forces  / Historic Sanford Memorial Stadium
SUMMARY;LANGUAGE=en;ENCODING=QUOTED-PRINTABLE:Sanford River Rats vs US9 Armed Forces
PRIORITY:5
CLASS:PUBLIC
URL:http://www.pointstreak.com/baseball/
STATUS:CONFIRMED
END:VEVENT
END:VCALENDAR

