BEGIN:VCALENDAR
PRODID:-//www.pointstreak.com
VERSION:1.0
METHOD:PUBLISH
BEGIN:VEVENT
ORGANIZER;CN=Pointstreak Sports Technologies Inc.:MAILTO:support@pointstreak.com
DTSTART:20210804T223200Z
DTEND:20210804T223200Z
LOCATION;LANGUAGE=en;ENCODING=QUOTED-PRINTABLE:Alumni Field
TRANSP:OPAQUE
SEQUENCE:0
UID:8b75475ea8227ffb91a0a44b175b2221
DTSTAMP:20260420T154300
CATEGORIES;LANGUAGE=en;ENCODING=QUOTED-PRINTABLE:Event
DESCRIPTION;LANGUAGE=en;ENCODING=QUOTED-PRINTABLE:Keene Swamp Bats vs North Shore Navigators  / Alumni Field
SUMMARY;LANGUAGE=en;ENCODING=QUOTED-PRINTABLE:Keene Swamp Bats vs North Shore Navigators
PRIORITY:5
CLASS:PUBLIC
URL:http://www.pointstreak.com/baseball/
STATUS:CONFIRMED
END:VEVENT
BEGIN:VEVENT
ORGANIZER;CN=Pointstreak Sports Technologies Inc.:MAILTO:support@pointstreak.com
DTSTART:20210806T230700Z
DTEND:20210806T230700Z
LOCATION;LANGUAGE=en;ENCODING=QUOTED-PRINTABLE:Fraser Field
TRANSP:OPAQUE
SEQUENCE:0
UID:23b575651b1b461c4abe8ac72b3b45c5
DTSTAMP:20260420T154300
CATEGORIES;LANGUAGE=en;ENCODING=QUOTED-PRINTABLE:Event
DESCRIPTION;LANGUAGE=en;ENCODING=QUOTED-PRINTABLE:North Shore Navigators vs Keene Swamp Bats  / Fraser Field
SUMMARY;LANGUAGE=en;ENCODING=QUOTED-PRINTABLE:North Shore Navigators vs Keene Swamp Bats
PRIORITY:5
CLASS:PUBLIC
URL:http://www.pointstreak.com/baseball/
STATUS:CONFIRMED
END:VEVENT
BEGIN:VEVENT
ORGANIZER;CN=Pointstreak Sports Technologies Inc.:MAILTO:support@pointstreak.com
DTSTART:20210807T223100Z
DTEND:20210807T223100Z
LOCATION;LANGUAGE=en;ENCODING=QUOTED-PRINTABLE:Alumni Field
TRANSP:OPAQUE
SEQUENCE:0
UID:71f76aabe01ffbeba4461100d6188c3f
DTSTAMP:20260420T154300
CATEGORIES;LANGUAGE=en;ENCODING=QUOTED-PRINTABLE:Event
DESCRIPTION;LANGUAGE=en;ENCODING=QUOTED-PRINTABLE:Keene Swamp Bats vs North Shore Navigators  / Alumni Field
SUMMARY;LANGUAGE=en;ENCODING=QUOTED-PRINTABLE:Keene Swamp Bats vs North Shore Navigators
PRIORITY:5
CLASS:PUBLIC
URL:http://www.pointstreak.com/baseball/
STATUS:CONFIRMED
END:VEVENT
END:VCALENDAR

