BEGIN:VCALENDAR
PRODID:-//www.pointstreak.com
VERSION:1.0
METHOD:PUBLISH
BEGIN:VEVENT
ORGANIZER;CN=Pointstreak Sports Technologies Inc.:MAILTO:support@pointstreak.com
DTSTART:20190622T014000Z
DTEND:20190622T014000Z
LOCATION;LANGUAGE=en;ENCODING=QUOTED-PRINTABLE:Albert Park
TRANSP:OPAQUE
SEQUENCE:0
UID:bc8e66fd31200a57df6a35cf4d818ac6
DTSTAMP:20260420T142500
CATEGORIES;LANGUAGE=en;ENCODING=QUOTED-PRINTABLE:Event
DESCRIPTION;LANGUAGE=en;ENCODING=QUOTED-PRINTABLE:San Rafael Pacifics vs Top Speed Baseball  / Albert Park
SUMMARY;LANGUAGE=en;ENCODING=QUOTED-PRINTABLE:San Rafael Pacifics vs Top Speed Baseball
PRIORITY:5
CLASS:PUBLIC
URL:http://www.pointstreak.com/baseball/
STATUS:CONFIRMED
END:VEVENT
BEGIN:VEVENT
ORGANIZER;CN=Pointstreak Sports Technologies Inc.:MAILTO:support@pointstreak.com
DTSTART:20190720T013500Z
DTEND:20190720T013500Z
LOCATION;LANGUAGE=en;ENCODING=QUOTED-PRINTABLE:Albert Park
TRANSP:OPAQUE
SEQUENCE:0
UID:2eeb726a661e70cf80661637ffb37900
DTSTAMP:20260420T142500
CATEGORIES;LANGUAGE=en;ENCODING=QUOTED-PRINTABLE:Event
DESCRIPTION;LANGUAGE=en;ENCODING=QUOTED-PRINTABLE:San Rafael Pacifics vs Top Speed Baseball  / Albert Park
SUMMARY;LANGUAGE=en;ENCODING=QUOTED-PRINTABLE:San Rafael Pacifics vs Top Speed Baseball
PRIORITY:5
CLASS:PUBLIC
URL:http://www.pointstreak.com/baseball/
STATUS:CONFIRMED
END:VEVENT
END:VCALENDAR

