BEGIN:VCALENDAR
PRODID:-//www.pointstreak.com
VERSION:1.0
METHOD:PUBLISH
BEGIN:VEVENT
ORGANIZER;CN=Pointstreak Sports Technologies Inc.:MAILTO:support@pointstreak.com
DTSTART:20140915T001000Z
DTEND:20140915T001000Z
TRANSP:OPAQUE
SEQUENCE:0
UID:7d054bf67942d0d0ad0f0b4bc103829a
DTSTAMP:20260420T111900
CATEGORIES;LANGUAGE=en;ENCODING=QUOTED-PRINTABLE:Event
DESCRIPTION;LANGUAGE=en;ENCODING=QUOTED-PRINTABLE:NWO vs Quaaludes 
SUMMARY;LANGUAGE=en;ENCODING=QUOTED-PRINTABLE:NWO vs Quaaludes
PRIORITY:5
CLASS:PUBLIC
URL:http://www.pointstreak.com/baseball/
STATUS:CONFIRMED
END:VEVENT
BEGIN:VEVENT
ORGANIZER;CN=Pointstreak Sports Technologies Inc.:MAILTO:support@pointstreak.com
DTSTART:20140915T010200Z
DTEND:20140915T010200Z
TRANSP:OPAQUE
SEQUENCE:0
UID:eb590814aae3a80d25e8e730f41d007c
DTSTAMP:20260420T111900
CATEGORIES;LANGUAGE=en;ENCODING=QUOTED-PRINTABLE:Event
DESCRIPTION;LANGUAGE=en;ENCODING=QUOTED-PRINTABLE:Quaaludes vs NWO 
SUMMARY;LANGUAGE=en;ENCODING=QUOTED-PRINTABLE:Quaaludes vs NWO
PRIORITY:5
CLASS:PUBLIC
URL:http://www.pointstreak.com/baseball/
STATUS:CONFIRMED
END:VEVENT
BEGIN:VEVENT
ORGANIZER;CN=Pointstreak Sports Technologies Inc.:MAILTO:support@pointstreak.com
DTSTART:20140921T211100Z
DTEND:20140921T211100Z
LOCATION;LANGUAGE=en;ENCODING=QUOTED-PRINTABLE:Raynor Park 1
TRANSP:OPAQUE
SEQUENCE:0
UID:218955b5e7266153436333d8331dc30d
DTSTAMP:20260420T111900
CATEGORIES;LANGUAGE=en;ENCODING=QUOTED-PRINTABLE:Event
DESCRIPTION;LANGUAGE=en;ENCODING=QUOTED-PRINTABLE:Quaaludes vs RA CREW  / Raynor Park 1
SUMMARY;LANGUAGE=en;ENCODING=QUOTED-PRINTABLE:Quaaludes vs RA CREW
PRIORITY:5
CLASS:PUBLIC
URL:http://www.pointstreak.com/baseball/
STATUS:CONFIRMED
END:VEVENT
BEGIN:VEVENT
ORGANIZER;CN=Pointstreak Sports Technologies Inc.:MAILTO:support@pointstreak.com
DTSTART:20140921T215900Z
DTEND:20140921T215900Z
LOCATION;LANGUAGE=en;ENCODING=QUOTED-PRINTABLE:Raynor Park 1
TRANSP:OPAQUE
SEQUENCE:0
UID:71689e47fe7e8defadb0eb5f7c557ec5
DTSTAMP:20260420T111900
CATEGORIES;LANGUAGE=en;ENCODING=QUOTED-PRINTABLE:Event
DESCRIPTION;LANGUAGE=en;ENCODING=QUOTED-PRINTABLE:RA CREW vs Quaaludes  / Raynor Park 1
SUMMARY;LANGUAGE=en;ENCODING=QUOTED-PRINTABLE:RA CREW vs Quaaludes
PRIORITY:5
CLASS:PUBLIC
URL:http://www.pointstreak.com/baseball/
STATUS:CONFIRMED
END:VEVENT
BEGIN:VEVENT
ORGANIZER;CN=Pointstreak Sports Technologies Inc.:MAILTO:support@pointstreak.com
DTSTART:20140929T211200Z
DTEND:20140929T211200Z
LOCATION;LANGUAGE=en;ENCODING=QUOTED-PRINTABLE:Raynor Park 1
TRANSP:OPAQUE
SEQUENCE:0
UID:b928f6807aa0216f5e1db9607df97f8c
DTSTAMP:20260420T111900
CATEGORIES;LANGUAGE=en;ENCODING=QUOTED-PRINTABLE:Event
DESCRIPTION;LANGUAGE=en;ENCODING=QUOTED-PRINTABLE:tailgaters vs Quaaludes  / Raynor Park 1
SUMMARY;LANGUAGE=en;ENCODING=QUOTED-PRINTABLE:tailgaters vs Quaaludes
PRIORITY:5
CLASS:PUBLIC
URL:http://www.pointstreak.com/baseball/
STATUS:CONFIRMED
END:VEVENT
BEGIN:VEVENT
ORGANIZER;CN=Pointstreak Sports Technologies Inc.:MAILTO:support@pointstreak.com
DTSTART:20140929T212000Z
DTEND:20140929T212000Z
LOCATION;LANGUAGE=en;ENCODING=QUOTED-PRINTABLE:Raynor Park 1
TRANSP:OPAQUE
SEQUENCE:0
UID:85426590ff2cfd7f00a57be978e7bf06
DTSTAMP:20260420T111900
CATEGORIES;LANGUAGE=en;ENCODING=QUOTED-PRINTABLE:Event
DESCRIPTION;LANGUAGE=en;ENCODING=QUOTED-PRINTABLE:Quaaludes vs tailgaters  / Raynor Park 1
SUMMARY;LANGUAGE=en;ENCODING=QUOTED-PRINTABLE:Quaaludes vs tailgaters
PRIORITY:5
CLASS:PUBLIC
URL:http://www.pointstreak.com/baseball/
STATUS:CONFIRMED
END:VEVENT
BEGIN:VEVENT
ORGANIZER;CN=Pointstreak Sports Technologies Inc.:MAILTO:support@pointstreak.com
DTSTART:20141005T210600Z
DTEND:20141005T210600Z
LOCATION;LANGUAGE=en;ENCODING=QUOTED-PRINTABLE:Raynor Park 2
TRANSP:OPAQUE
SEQUENCE:0
UID:ec1799fa1ff9e7c4ff6a85e6c8282403
DTSTAMP:20260420T111900
CATEGORIES;LANGUAGE=en;ENCODING=QUOTED-PRINTABLE:Event
DESCRIPTION;LANGUAGE=en;ENCODING=QUOTED-PRINTABLE:NWO vs Quaaludes  / Raynor Park 2
SUMMARY;LANGUAGE=en;ENCODING=QUOTED-PRINTABLE:NWO vs Quaaludes
PRIORITY:5
CLASS:PUBLIC
URL:http://www.pointstreak.com/baseball/
STATUS:CONFIRMED
END:VEVENT
BEGIN:VEVENT
ORGANIZER;CN=Pointstreak Sports Technologies Inc.:MAILTO:support@pointstreak.com
DTSTART:20141005T220700Z
DTEND:20141005T220700Z
LOCATION;LANGUAGE=en;ENCODING=QUOTED-PRINTABLE:Raynor Park 2
TRANSP:OPAQUE
SEQUENCE:0
UID:d3fae6e7df52eea15199a4523597e211
DTSTAMP:20260420T111900
CATEGORIES;LANGUAGE=en;ENCODING=QUOTED-PRINTABLE:Event
DESCRIPTION;LANGUAGE=en;ENCODING=QUOTED-PRINTABLE:Quaaludes vs NWO  / Raynor Park 2
SUMMARY;LANGUAGE=en;ENCODING=QUOTED-PRINTABLE:Quaaludes vs NWO
PRIORITY:5
CLASS:PUBLIC
URL:http://www.pointstreak.com/baseball/
STATUS:CONFIRMED
END:VEVENT
BEGIN:VEVENT
ORGANIZER;CN=Pointstreak Sports Technologies Inc.:MAILTO:support@pointstreak.com
DTSTART:20141012T210400Z
DTEND:20141012T210400Z
LOCATION;LANGUAGE=en;ENCODING=QUOTED-PRINTABLE:Firemens Field In Brookhaven
TRANSP:OPAQUE
SEQUENCE:0
UID:35a13bf32d7dd663d6fd7e1681c75c9e
DTSTAMP:20260420T111900
CATEGORIES;LANGUAGE=en;ENCODING=QUOTED-PRINTABLE:Event
DESCRIPTION;LANGUAGE=en;ENCODING=QUOTED-PRINTABLE:Quaaludes vs RA CREW  / Firemens Field In Brookhaven
SUMMARY;LANGUAGE=en;ENCODING=QUOTED-PRINTABLE:Quaaludes vs RA CREW
PRIORITY:5
CLASS:PUBLIC
URL:http://www.pointstreak.com/baseball/
STATUS:CONFIRMED
END:VEVENT
BEGIN:VEVENT
ORGANIZER;CN=Pointstreak Sports Technologies Inc.:MAILTO:support@pointstreak.com
DTSTART:20141012T221300Z
DTEND:20141012T221300Z
LOCATION;LANGUAGE=en;ENCODING=QUOTED-PRINTABLE:Firemens Field In Brookhaven
TRANSP:OPAQUE
SEQUENCE:0
UID:ae9303eafb01ed80d3210b9b8973a9af
DTSTAMP:20260420T111900
CATEGORIES;LANGUAGE=en;ENCODING=QUOTED-PRINTABLE:Event
DESCRIPTION;LANGUAGE=en;ENCODING=QUOTED-PRINTABLE:RA CREW vs Quaaludes  / Firemens Field In Brookhaven
SUMMARY;LANGUAGE=en;ENCODING=QUOTED-PRINTABLE:RA CREW vs Quaaludes
PRIORITY:5
CLASS:PUBLIC
URL:http://www.pointstreak.com/baseball/
STATUS:CONFIRMED
END:VEVENT
BEGIN:VEVENT
ORGANIZER;CN=Pointstreak Sports Technologies Inc.:MAILTO:support@pointstreak.com
DTSTART:20141019T212100Z
DTEND:20141019T212100Z
LOCATION;LANGUAGE=en;ENCODING=QUOTED-PRINTABLE:Raynor Park 1
TRANSP:OPAQUE
SEQUENCE:0
UID:85e755797b3213f453c5d3d34e51de32
DTSTAMP:20260420T111900
CATEGORIES;LANGUAGE=en;ENCODING=QUOTED-PRINTABLE:Event
DESCRIPTION;LANGUAGE=en;ENCODING=QUOTED-PRINTABLE:tailgaters vs Quaaludes  / Raynor Park 1
SUMMARY;LANGUAGE=en;ENCODING=QUOTED-PRINTABLE:tailgaters vs Quaaludes
PRIORITY:5
CLASS:PUBLIC
URL:http://www.pointstreak.com/baseball/
STATUS:CONFIRMED
END:VEVENT
BEGIN:VEVENT
ORGANIZER;CN=Pointstreak Sports Technologies Inc.:MAILTO:support@pointstreak.com
DTSTART:20141019T220200Z
DTEND:20141019T220200Z
LOCATION;LANGUAGE=en;ENCODING=QUOTED-PRINTABLE:Raynor Park 1
TRANSP:OPAQUE
SEQUENCE:0
UID:2470576ab2e1cc30371725a21b0dbb63
DTSTAMP:20260420T111900
CATEGORIES;LANGUAGE=en;ENCODING=QUOTED-PRINTABLE:Event
DESCRIPTION;LANGUAGE=en;ENCODING=QUOTED-PRINTABLE:Quaaludes vs tailgaters  / Raynor Park 1
SUMMARY;LANGUAGE=en;ENCODING=QUOTED-PRINTABLE:Quaaludes vs tailgaters
PRIORITY:5
CLASS:PUBLIC
URL:http://www.pointstreak.com/baseball/
STATUS:CONFIRMED
END:VEVENT
BEGIN:VEVENT
ORGANIZER;CN=Pointstreak Sports Technologies Inc.:MAILTO:support@pointstreak.com
DTSTART:20141104T051000Z
DTEND:20141104T051000Z
LOCATION;LANGUAGE=en;ENCODING=QUOTED-PRINTABLE:Raynor Park 1
TRANSP:OPAQUE
SEQUENCE:0
UID:f7481fba976825bd8c0180c309952e66
DTSTAMP:20260420T111900
CATEGORIES;LANGUAGE=en;ENCODING=QUOTED-PRINTABLE:Event
DESCRIPTION;LANGUAGE=en;ENCODING=QUOTED-PRINTABLE:Quaaludes vs RA CREW  / Raynor Park 1
SUMMARY;LANGUAGE=en;ENCODING=QUOTED-PRINTABLE:Quaaludes vs RA CREW
PRIORITY:5
CLASS:PUBLIC
URL:http://www.pointstreak.com/baseball/
STATUS:CONFIRMED
END:VEVENT
BEGIN:VEVENT
ORGANIZER;CN=Pointstreak Sports Technologies Inc.:MAILTO:support@pointstreak.com
DTSTART:20141104T052300Z
DTEND:20141104T052300Z
LOCATION;LANGUAGE=en;ENCODING=QUOTED-PRINTABLE:Raynor Park 1
TRANSP:OPAQUE
SEQUENCE:0
UID:5f8f5ea69e562a18a637302225c2829b
DTSTAMP:20260420T111900
CATEGORIES;LANGUAGE=en;ENCODING=QUOTED-PRINTABLE:Event
DESCRIPTION;LANGUAGE=en;ENCODING=QUOTED-PRINTABLE:RA CREW vs Quaaludes  / Raynor Park 1
SUMMARY;LANGUAGE=en;ENCODING=QUOTED-PRINTABLE:RA CREW vs Quaaludes
PRIORITY:5
CLASS:PUBLIC
URL:http://www.pointstreak.com/baseball/
STATUS:CONFIRMED
END:VEVENT
BEGIN:VEVENT
ORGANIZER;CN=Pointstreak Sports Technologies Inc.:MAILTO:support@pointstreak.com
DTSTART:20141109T220000Z
DTEND:20141109T220000Z
LOCATION;LANGUAGE=en;ENCODING=QUOTED-PRINTABLE:Raynor Park 1
TRANSP:OPAQUE
SEQUENCE:0
UID:6eaad4f017a6bb37ce1be3e09afd2abf
DTSTAMP:20260420T111900
CATEGORIES;LANGUAGE=en;ENCODING=QUOTED-PRINTABLE:Event
DESCRIPTION;LANGUAGE=en;ENCODING=QUOTED-PRINTABLE:Quaaludes vs RA CREW  / Raynor Park 1
SUMMARY;LANGUAGE=en;ENCODING=QUOTED-PRINTABLE:Quaaludes vs RA CREW
PRIORITY:5
CLASS:PUBLIC
URL:http://www.pointstreak.com/baseball/
STATUS:CONFIRMED
END:VEVENT
BEGIN:VEVENT
ORGANIZER;CN=Pointstreak Sports Technologies Inc.:MAILTO:support@pointstreak.com
DTSTART:20141109T231500Z
DTEND:20141109T231500Z
LOCATION;LANGUAGE=en;ENCODING=QUOTED-PRINTABLE:Raynor Park 1
TRANSP:OPAQUE
SEQUENCE:0
UID:97abbbe1e5d12378466948ef7cfc7839
DTSTAMP:20260420T111900
CATEGORIES;LANGUAGE=en;ENCODING=QUOTED-PRINTABLE:Event
DESCRIPTION;LANGUAGE=en;ENCODING=QUOTED-PRINTABLE:RA CREW vs Quaaludes  / Raynor Park 1
SUMMARY;LANGUAGE=en;ENCODING=QUOTED-PRINTABLE:RA CREW vs Quaaludes
PRIORITY:5
CLASS:PUBLIC
URL:http://www.pointstreak.com/baseball/
STATUS:CONFIRMED
END:VEVENT
END:VCALENDAR

