BEGIN:VCALENDAR
PRODID:-//www.pointstreak.com
VERSION:1.0
METHOD:PUBLISH
BEGIN:VEVENT
ORGANIZER;CN=Pointstreak Sports Technologies Inc.:MAILTO:support@pointstreak.com
DTSTART:20140921T000000Z
DTEND:20140921T000000Z
LOCATION;LANGUAGE=en;ENCODING=QUOTED-PRINTABLE:Granny Road
TRANSP:OPAQUE
SEQUENCE:0
UID:d827e7dd873855febd751dca859c8031
DTSTAMP:20260420T211800
CATEGORIES;LANGUAGE=en;ENCODING=QUOTED-PRINTABLE:Event
DESCRIPTION;LANGUAGE=en;ENCODING=QUOTED-PRINTABLE:Eight Pound Balls vs Outkasts  / Granny Road
SUMMARY;LANGUAGE=en;ENCODING=QUOTED-PRINTABLE:Eight Pound Balls vs Outkasts
PRIORITY:5
CLASS:PUBLIC
URL:http://www.pointstreak.com/baseball/
STATUS:CONFIRMED
END:VEVENT
BEGIN:VEVENT
ORGANIZER;CN=Pointstreak Sports Technologies Inc.:MAILTO:support@pointstreak.com
DTSTART:20140921T011500Z
DTEND:20140921T011500Z
LOCATION;LANGUAGE=en;ENCODING=QUOTED-PRINTABLE:Granny Road
TRANSP:OPAQUE
SEQUENCE:0
UID:0706130dd2a529e24dfac6209512377d
DTSTAMP:20260420T211800
CATEGORIES;LANGUAGE=en;ENCODING=QUOTED-PRINTABLE:Event
DESCRIPTION;LANGUAGE=en;ENCODING=QUOTED-PRINTABLE:Outkasts vs Eight Pound Balls  / Granny Road
SUMMARY;LANGUAGE=en;ENCODING=QUOTED-PRINTABLE:Outkasts vs Eight Pound Balls
PRIORITY:5
CLASS:PUBLIC
URL:http://www.pointstreak.com/baseball/
STATUS:CONFIRMED
END:VEVENT
BEGIN:VEVENT
ORGANIZER;CN=Pointstreak Sports Technologies Inc.:MAILTO:support@pointstreak.com
DTSTART:20141019T000100Z
DTEND:20141019T000100Z
LOCATION;LANGUAGE=en;ENCODING=QUOTED-PRINTABLE:Raynor Park 1
TRANSP:OPAQUE
SEQUENCE:0
UID:8bec745a5a56a05190c244963a37c6b6
DTSTAMP:20260420T211800
CATEGORIES;LANGUAGE=en;ENCODING=QUOTED-PRINTABLE:Event
DESCRIPTION;LANGUAGE=en;ENCODING=QUOTED-PRINTABLE:Eight Pound Balls vs LI COORS CREW  / Raynor Park 1
SUMMARY;LANGUAGE=en;ENCODING=QUOTED-PRINTABLE:Eight Pound Balls vs LI COORS CREW
PRIORITY:5
CLASS:PUBLIC
URL:http://www.pointstreak.com/baseball/
STATUS:CONFIRMED
END:VEVENT
BEGIN:VEVENT
ORGANIZER;CN=Pointstreak Sports Technologies Inc.:MAILTO:support@pointstreak.com
DTSTART:20141019T012400Z
DTEND:20141019T012400Z
LOCATION;LANGUAGE=en;ENCODING=QUOTED-PRINTABLE:Raynor Park 1
TRANSP:OPAQUE
SEQUENCE:0
UID:e1348af8a50eaaf1f09f0216f6fd1fd4
DTSTAMP:20260420T211800
CATEGORIES;LANGUAGE=en;ENCODING=QUOTED-PRINTABLE:Event
DESCRIPTION;LANGUAGE=en;ENCODING=QUOTED-PRINTABLE:LI COORS CREW vs Eight Pound Balls  / Raynor Park 1
SUMMARY;LANGUAGE=en;ENCODING=QUOTED-PRINTABLE:LI COORS CREW vs Eight Pound Balls
PRIORITY:5
CLASS:PUBLIC
URL:http://www.pointstreak.com/baseball/
STATUS:CONFIRMED
END:VEVENT
BEGIN:VEVENT
ORGANIZER;CN=Pointstreak Sports Technologies Inc.:MAILTO:support@pointstreak.com
DTSTART:20141026T000000Z
DTEND:20141026T000000Z
LOCATION;LANGUAGE=en;ENCODING=QUOTED-PRINTABLE:Moriches Complex Field #2
TRANSP:OPAQUE
SEQUENCE:0
UID:5b19f31dc811112196e54d79f262c179
DTSTAMP:20260420T211800
CATEGORIES;LANGUAGE=en;ENCODING=QUOTED-PRINTABLE:Event
DESCRIPTION;LANGUAGE=en;ENCODING=QUOTED-PRINTABLE:Kekambas vs Eight Pound Balls  / Moriches Complex Field #2
SUMMARY;LANGUAGE=en;ENCODING=QUOTED-PRINTABLE:Kekambas vs Eight Pound Balls
PRIORITY:5
CLASS:PUBLIC
URL:http://www.pointstreak.com/baseball/
STATUS:CONFIRMED
END:VEVENT
BEGIN:VEVENT
ORGANIZER;CN=Pointstreak Sports Technologies Inc.:MAILTO:support@pointstreak.com
DTSTART:20141026T011500Z
DTEND:20141026T011500Z
LOCATION;LANGUAGE=en;ENCODING=QUOTED-PRINTABLE:Moriches Complex Field #2
TRANSP:OPAQUE
SEQUENCE:0
UID:03f4bfb4122e74f237b0e093cfca3147
DTSTAMP:20260420T211800
CATEGORIES;LANGUAGE=en;ENCODING=QUOTED-PRINTABLE:Event
DESCRIPTION;LANGUAGE=en;ENCODING=QUOTED-PRINTABLE:Eight Pound Balls vs Kekambas  / Moriches Complex Field #2
SUMMARY;LANGUAGE=en;ENCODING=QUOTED-PRINTABLE:Eight Pound Balls vs Kekambas
PRIORITY:5
CLASS:PUBLIC
URL:http://www.pointstreak.com/baseball/
STATUS:CONFIRMED
END:VEVENT
BEGIN:VEVENT
ORGANIZER;CN=Pointstreak Sports Technologies Inc.:MAILTO:support@pointstreak.com
DTSTART:20141109T002200Z
DTEND:20141109T002200Z
LOCATION;LANGUAGE=en;ENCODING=QUOTED-PRINTABLE:Raynor Park 2
TRANSP:OPAQUE
SEQUENCE:0
UID:30f6b3e894316e513ae36f537a724154
DTSTAMP:20260420T211800
CATEGORIES;LANGUAGE=en;ENCODING=QUOTED-PRINTABLE:Event
DESCRIPTION;LANGUAGE=en;ENCODING=QUOTED-PRINTABLE:Eight Pound Balls vs Maggios knights  / Raynor Park 2
SUMMARY;LANGUAGE=en;ENCODING=QUOTED-PRINTABLE:Eight Pound Balls vs Maggios knights
PRIORITY:5
CLASS:PUBLIC
URL:http://www.pointstreak.com/baseball/
STATUS:CONFIRMED
END:VEVENT
BEGIN:VEVENT
ORGANIZER;CN=Pointstreak Sports Technologies Inc.:MAILTO:support@pointstreak.com
DTSTART:20141109T003400Z
DTEND:20141109T003400Z
LOCATION;LANGUAGE=en;ENCODING=QUOTED-PRINTABLE:Raynor Park 2
TRANSP:OPAQUE
SEQUENCE:0
UID:bf06873aed7a9b17f06d9d27051ced2b
DTSTAMP:20260420T211800
CATEGORIES;LANGUAGE=en;ENCODING=QUOTED-PRINTABLE:Event
DESCRIPTION;LANGUAGE=en;ENCODING=QUOTED-PRINTABLE:Maggios knights vs Eight Pound Balls  / Raynor Park 2
SUMMARY;LANGUAGE=en;ENCODING=QUOTED-PRINTABLE:Maggios knights vs Eight Pound Balls
PRIORITY:5
CLASS:PUBLIC
URL:http://www.pointstreak.com/baseball/
STATUS:CONFIRMED
END:VEVENT
BEGIN:VEVENT
ORGANIZER;CN=Pointstreak Sports Technologies Inc.:MAILTO:support@pointstreak.com
DTSTART:20141109T010000Z
DTEND:20141109T010000Z
LOCATION;LANGUAGE=en;ENCODING=QUOTED-PRINTABLE:Raynor Park 1
TRANSP:OPAQUE
SEQUENCE:0
UID:f781dff673b66c3408b06454f9ef8c01
DTSTAMP:20260420T211800
CATEGORIES;LANGUAGE=en;ENCODING=QUOTED-PRINTABLE:Event
DESCRIPTION;LANGUAGE=en;ENCODING=QUOTED-PRINTABLE:Eight Pound Balls vs No Mercy  / Raynor Park 1
SUMMARY;LANGUAGE=en;ENCODING=QUOTED-PRINTABLE:Eight Pound Balls vs No Mercy
PRIORITY:5
CLASS:PUBLIC
URL:http://www.pointstreak.com/baseball/
STATUS:CONFIRMED
END:VEVENT
BEGIN:VEVENT
ORGANIZER;CN=Pointstreak Sports Technologies Inc.:MAILTO:support@pointstreak.com
DTSTART:20141109T021500Z
DTEND:20141109T021500Z
LOCATION;LANGUAGE=en;ENCODING=QUOTED-PRINTABLE:Raynor Park 1
TRANSP:OPAQUE
SEQUENCE:0
UID:7d2abdeccc8e38f25b36553bb222e192
DTSTAMP:20260420T211800
CATEGORIES;LANGUAGE=en;ENCODING=QUOTED-PRINTABLE:Event
DESCRIPTION;LANGUAGE=en;ENCODING=QUOTED-PRINTABLE:No Mercy vs Eight Pound Balls  / Raynor Park 1
SUMMARY;LANGUAGE=en;ENCODING=QUOTED-PRINTABLE:No Mercy vs Eight Pound Balls
PRIORITY:5
CLASS:PUBLIC
URL:http://www.pointstreak.com/baseball/
STATUS:CONFIRMED
END:VEVENT
BEGIN:VEVENT
ORGANIZER;CN=Pointstreak Sports Technologies Inc.:MAILTO:support@pointstreak.com
DTSTART:20141118T064600Z
DTEND:20141118T064600Z
LOCATION;LANGUAGE=en;ENCODING=QUOTED-PRINTABLE:Raynor Park 1
TRANSP:OPAQUE
SEQUENCE:0
UID:c672b79eaffc008f25877bfda51be39a
DTSTAMP:20260420T211800
CATEGORIES;LANGUAGE=en;ENCODING=QUOTED-PRINTABLE:Event
DESCRIPTION;LANGUAGE=en;ENCODING=QUOTED-PRINTABLE:Ball Dont Lie vs Eight Pound Balls  / Raynor Park 1
SUMMARY;LANGUAGE=en;ENCODING=QUOTED-PRINTABLE:Ball Dont Lie vs Eight Pound Balls
PRIORITY:5
CLASS:PUBLIC
URL:http://www.pointstreak.com/baseball/
STATUS:CONFIRMED
END:VEVENT
BEGIN:VEVENT
ORGANIZER;CN=Pointstreak Sports Technologies Inc.:MAILTO:support@pointstreak.com
DTSTART:20141118T100100Z
DTEND:20141118T100100Z
TRANSP:OPAQUE
SEQUENCE:0
UID:0d33275233977cc295c2194ce9c11396
DTSTAMP:20260420T211800
CATEGORIES;LANGUAGE=en;ENCODING=QUOTED-PRINTABLE:Event
DESCRIPTION;LANGUAGE=en;ENCODING=QUOTED-PRINTABLE:Eight Pound Balls vs Ball Dont Lie 
SUMMARY;LANGUAGE=en;ENCODING=QUOTED-PRINTABLE:Eight Pound Balls vs Ball Dont Lie
PRIORITY:5
CLASS:PUBLIC
URL:http://www.pointstreak.com/baseball/
STATUS:CONFIRMED
END:VEVENT
BEGIN:VEVENT
ORGANIZER;CN=Pointstreak Sports Technologies Inc.:MAILTO:support@pointstreak.com
DTSTART:20141123T010000Z
DTEND:20141123T010000Z
LOCATION;LANGUAGE=en;ENCODING=QUOTED-PRINTABLE:Raynor Park 1
TRANSP:OPAQUE
SEQUENCE:0
UID:01727f2405278bb63a3752028145ff7e
DTSTAMP:20260420T211800
CATEGORIES;LANGUAGE=en;ENCODING=QUOTED-PRINTABLE:Event
DESCRIPTION;LANGUAGE=en;ENCODING=QUOTED-PRINTABLE:Eight Pound Balls vs Megapowers Moes Smithtown  / Raynor Park 1
SUMMARY;LANGUAGE=en;ENCODING=QUOTED-PRINTABLE:Eight Pound Balls vs Megapowers Moes Smithtown
PRIORITY:5
CLASS:PUBLIC
URL:http://www.pointstreak.com/baseball/
STATUS:CONFIRMED
END:VEVENT
BEGIN:VEVENT
ORGANIZER;CN=Pointstreak Sports Technologies Inc.:MAILTO:support@pointstreak.com
DTSTART:20141123T014500Z
DTEND:20141123T014500Z
LOCATION;LANGUAGE=en;ENCODING=QUOTED-PRINTABLE:Raynor Park 1
TRANSP:OPAQUE
SEQUENCE:0
UID:2d1edcb82f9c1d7932af9f0f5809df0f
DTSTAMP:20260420T211800
CATEGORIES;LANGUAGE=en;ENCODING=QUOTED-PRINTABLE:Event
DESCRIPTION;LANGUAGE=en;ENCODING=QUOTED-PRINTABLE:Megapowers Moes Smithtown vs Eight Pound Balls  / Raynor Park 1
SUMMARY;LANGUAGE=en;ENCODING=QUOTED-PRINTABLE:Megapowers Moes Smithtown vs Eight Pound Balls
PRIORITY:5
CLASS:PUBLIC
URL:http://www.pointstreak.com/baseball/
STATUS:CONFIRMED
END:VEVENT
END:VCALENDAR

