BEGIN:VCALENDAR
PRODID:-//www.pointstreak.com
VERSION:1.0
METHOD:PUBLISH
BEGIN:VEVENT
ORGANIZER;CN=Pointstreak Sports Technologies Inc.:MAILTO:support@pointstreak.com
DTSTART:20140516T160700Z
DTEND:20140516T160700Z
LOCATION;LANGUAGE=en;ENCODING=QUOTED-PRINTABLE:Kate Waygood #2
TRANSP:OPAQUE
SEQUENCE:0
UID:f817bdb347158f50c0a1777efda14c26
DTSTAMP:20260425T162900
CATEGORIES;LANGUAGE=en;ENCODING=QUOTED-PRINTABLE:Event
DESCRIPTION;LANGUAGE=en;ENCODING=QUOTED-PRINTABLE:Saskatoon Cubs vs Northwest Prairie Pirates  / Kate Waygood #2
SUMMARY;LANGUAGE=en;ENCODING=QUOTED-PRINTABLE:Saskatoon Cubs vs Northwest Prairie Pirates
PRIORITY:5
CLASS:PUBLIC
URL:http://www.pointstreak.com/baseball/
STATUS:CONFIRMED
END:VEVENT
BEGIN:VEVENT
ORGANIZER;CN=Pointstreak Sports Technologies Inc.:MAILTO:support@pointstreak.com
DTSTART:20140516T230000Z
DTEND:20140516T230000Z
LOCATION;LANGUAGE=en;ENCODING=QUOTED-PRINTABLE:Cairns Field
TRANSP:OPAQUE
SEQUENCE:0
UID:28c0f1296374b66f0652710c1655b826
DTSTAMP:20260425T162900
CATEGORIES;LANGUAGE=en;ENCODING=QUOTED-PRINTABLE:Event
DESCRIPTION;LANGUAGE=en;ENCODING=QUOTED-PRINTABLE:Northwest Prairie Pirates vs Southeast Legacy Twins  / Cairns Field
SUMMARY;LANGUAGE=en;ENCODING=QUOTED-PRINTABLE:Northwest Prairie Pirates vs Southeast Legacy Twins
PRIORITY:5
CLASS:PUBLIC
URL:http://www.pointstreak.com/baseball/
STATUS:CONFIRMED
END:VEVENT
BEGIN:VEVENT
ORGANIZER;CN=Pointstreak Sports Technologies Inc.:MAILTO:support@pointstreak.com
DTSTART:20140519T040000Z
DTEND:20140519T040000Z
TRANSP:OPAQUE
SEQUENCE:0
UID:40ff13f216cc95e4b3c518e4ebd475bd
DTSTAMP:20260425T162900
CATEGORIES;LANGUAGE=en;ENCODING=QUOTED-PRINTABLE:Event
DESCRIPTION;LANGUAGE=en;ENCODING=QUOTED-PRINTABLE:Northwest Prairie Pirates vs Regina Athletics 
SUMMARY;LANGUAGE=en;ENCODING=QUOTED-PRINTABLE:Northwest Prairie Pirates vs Regina Athletics
PRIORITY:5
CLASS:PUBLIC
URL:http://www.pointstreak.com/baseball/
STATUS:CONFIRMED
END:VEVENT
END:VCALENDAR

