BEGIN:VCALENDAR
PRODID:-//www.pointstreak.com
VERSION:1.0
METHOD:PUBLISH
BEGIN:VEVENT
ORGANIZER;CN=Pointstreak Sports Technologies Inc.:MAILTO:support@pointstreak.com
DTSTART:20100301T225400Z
DTEND:20100301T225400Z
LOCATION;LANGUAGE=en;ENCODING=QUOTED-PRINTABLE:Varsity Field
TRANSP:OPAQUE
SEQUENCE:0
UID:ce7a724b55b6104930382bb1a69a9f25
DTSTAMP:20260420T163500
CATEGORIES;LANGUAGE=en;ENCODING=QUOTED-PRINTABLE:Event
DESCRIPTION;LANGUAGE=en;ENCODING=QUOTED-PRINTABLE:Desert Mountain vs Saguaro  / Varsity Field
SUMMARY;LANGUAGE=en;ENCODING=QUOTED-PRINTABLE:Desert Mountain vs Saguaro
PRIORITY:5
CLASS:PUBLIC
URL:http://www.pointstreak.com/baseball/
STATUS:CONFIRMED
END:VEVENT
END:VCALENDAR

