BEGIN:VCALENDAR
PRODID:-//www.pointstreak.com
VERSION:1.0
METHOD:PUBLISH
BEGIN:VEVENT
ORGANIZER;CN=Pointstreak Sports Technologies Inc.:MAILTO:support@pointstreak.com
DTSTART:20120607T230200Z
DTEND:20120607T230200Z
LOCATION;LANGUAGE=en;ENCODING=QUOTED-PRINTABLE:Simmons Field
TRANSP:OPAQUE
SEQUENCE:0
UID:670bbcbb1a27b1374eca2915e2e03f6d
DTSTAMP:20260420T225400
CATEGORIES;LANGUAGE=en;ENCODING=QUOTED-PRINTABLE:Event
DESCRIPTION;LANGUAGE=en;ENCODING=QUOTED-PRINTABLE:Lima Locos vs Lima Legion  / Simmons Field
SUMMARY;LANGUAGE=en;ENCODING=QUOTED-PRINTABLE:Lima Locos vs Lima Legion
PRIORITY:5
CLASS:PUBLIC
URL:http://www.pointstreak.com/baseball/
STATUS:CONFIRMED
END:VEVENT
BEGIN:VEVENT
ORGANIZER;CN=Pointstreak Sports Technologies Inc.:MAILTO:support@pointstreak.com
DTSTART:20120609T064100Z
DTEND:20120609T064100Z
TRANSP:OPAQUE
SEQUENCE:0
UID:bcfc43742da47f354b059e99995f6ebd
DTSTAMP:20260420T225400
CATEGORIES;LANGUAGE=en;ENCODING=QUOTED-PRINTABLE:Event
DESCRIPTION;LANGUAGE=en;ENCODING=QUOTED-PRINTABLE:Grand Lake Mariners vs Lima Locos 
SUMMARY;LANGUAGE=en;ENCODING=QUOTED-PRINTABLE:Grand Lake Mariners vs Lima Locos
PRIORITY:5
CLASS:PUBLIC
URL:http://www.pointstreak.com/baseball/
STATUS:CONFIRMED
END:VEVENT
END:VCALENDAR

