BEGIN:VCALENDAR
PRODID:-//www.pointstreak.com
VERSION:1.0
METHOD:PUBLISH
BEGIN:VEVENT
ORGANIZER;CN=Pointstreak Sports Technologies Inc.:MAILTO:support@pointstreak.com
DTSTART:20100325T175700Z
DTEND:20100325T175700Z
TRANSP:OPAQUE
SEQUENCE:0
UID:6c48bd9e52af86615ea0a7bb94aac615
DTSTAMP:20260420T232300
CATEGORIES;LANGUAGE=en;ENCODING=QUOTED-PRINTABLE:Event
DESCRIPTION;LANGUAGE=en;ENCODING=QUOTED-PRINTABLE:Clyde vs Wimberley 
SUMMARY;LANGUAGE=en;ENCODING=QUOTED-PRINTABLE:Clyde vs Wimberley
PRIORITY:5
CLASS:PUBLIC
URL:http://www.pointstreak.com/baseball/
STATUS:CONFIRMED
END:VEVENT
END:VCALENDAR

