BEGIN:VCALENDAR
PRODID:-//www.pointstreak.com
VERSION:1.0
METHOD:PUBLISH
BEGIN:VEVENT
ORGANIZER;CN=Pointstreak Sports Technologies Inc.:MAILTO:support@pointstreak.com
DTSTART:20100223T033000Z
DTEND:20100223T033000Z
TRANSP:OPAQUE
SEQUENCE:0
UID:5d2c75eab6a74706afa0fe60f9a7ebe1
DTSTAMP:20260420T145100
CATEGORIES;LANGUAGE=en;ENCODING=QUOTED-PRINTABLE:Event
DESCRIPTION;LANGUAGE=en;ENCODING=QUOTED-PRINTABLE:Cuero vs Bastrop 
SUMMARY;LANGUAGE=en;ENCODING=QUOTED-PRINTABLE:Cuero vs Bastrop
PRIORITY:5
CLASS:PUBLIC
URL:http://www.pointstreak.com/baseball/
STATUS:CONFIRMED
END:VEVENT
BEGIN:VEVENT
ORGANIZER;CN=Pointstreak Sports Technologies Inc.:MAILTO:support@pointstreak.com
DTSTART:20100318T220000Z
DTEND:20100318T220000Z
LOCATION;LANGUAGE=en;ENCODING=QUOTED-PRINTABLE:Bandera
TRANSP:OPAQUE
SEQUENCE:0
UID:9d187c05a94691d1313e7cd993da97b4
DTSTAMP:20260420T145100
CATEGORIES;LANGUAGE=en;ENCODING=QUOTED-PRINTABLE:Event
DESCRIPTION;LANGUAGE=en;ENCODING=QUOTED-PRINTABLE:Bandera vs Cuero  / Bandera
SUMMARY;LANGUAGE=en;ENCODING=QUOTED-PRINTABLE:Bandera vs Cuero
PRIORITY:5
CLASS:PUBLIC
URL:http://www.pointstreak.com/baseball/
STATUS:CONFIRMED
END:VEVENT
END:VCALENDAR

