BEGIN:VCALENDAR
PRODID:-//www.pointstreak.com
VERSION:1.0
METHOD:PUBLISH
BEGIN:VEVENT
ORGANIZER;CN=Pointstreak Sports Technologies Inc.:MAILTO:support@pointstreak.com
DTSTART:20100309T233000Z
DTEND:20100309T233000Z
LOCATION;LANGUAGE=en;ENCODING=QUOTED-PRINTABLE:Corpus Christi Moody
TRANSP:OPAQUE
SEQUENCE:0
UID:11a2bbc7fdbdbc520d5f295a2c0b58f9
DTSTAMP:20260420T154100
CATEGORIES;LANGUAGE=en;ENCODING=QUOTED-PRINTABLE:Event
DESCRIPTION;LANGUAGE=en;ENCODING=QUOTED-PRINTABLE:Corpus Christi Mary Carroll vs Victoria Memorial  / Corpus Christi Moody
SUMMARY;LANGUAGE=en;ENCODING=QUOTED-PRINTABLE:Corpus Christi Mary Carroll vs Victoria Memorial
PRIORITY:5
CLASS:PUBLIC
URL:http://www.pointstreak.com/baseball/
STATUS:CONFIRMED
END:VEVENT
BEGIN:VEVENT
ORGANIZER;CN=Pointstreak Sports Technologies Inc.:MAILTO:support@pointstreak.com
DTSTART:20100407T010000Z
DTEND:20100407T010000Z
LOCATION;LANGUAGE=en;ENCODING=QUOTED-PRINTABLE:Victoria Memorial
TRANSP:OPAQUE
SEQUENCE:0
UID:3381876fcc8450c33ea19ddf250b105d
DTSTAMP:20260420T154100
CATEGORIES;LANGUAGE=en;ENCODING=QUOTED-PRINTABLE:Event
DESCRIPTION;LANGUAGE=en;ENCODING=QUOTED-PRINTABLE:Victoria Memorial vs Corpus Christi Mary Carroll  / Victoria Memorial
SUMMARY;LANGUAGE=en;ENCODING=QUOTED-PRINTABLE:Victoria Memorial vs Corpus Christi Mary Carroll
PRIORITY:5
CLASS:PUBLIC
URL:http://www.pointstreak.com/baseball/
STATUS:CONFIRMED
END:VEVENT
BEGIN:VEVENT
ORGANIZER;CN=Pointstreak Sports Technologies Inc.:MAILTO:support@pointstreak.com
DTSTART:20100422T000000Z
DTEND:20100422T000000Z
LOCATION;LANGUAGE=en;ENCODING=QUOTED-PRINTABLE:San Antonio Wagner
TRANSP:OPAQUE
SEQUENCE:0
UID:fb1bd0ee78d2c3a7433771edb4f7397b
DTSTAMP:20260420T154100
CATEGORIES;LANGUAGE=en;ENCODING=QUOTED-PRINTABLE:Event
DESCRIPTION;LANGUAGE=en;ENCODING=QUOTED-PRINTABLE:San Antonio Wagner vs Corpus Christi Mary Carroll  / San Antonio Wagner
SUMMARY;LANGUAGE=en;ENCODING=QUOTED-PRINTABLE:San Antonio Wagner vs Corpus Christi Mary Carroll
PRIORITY:5
CLASS:PUBLIC
URL:http://www.pointstreak.com/baseball/
STATUS:CONFIRMED
END:VEVENT
BEGIN:VEVENT
ORGANIZER;CN=Pointstreak Sports Technologies Inc.:MAILTO:support@pointstreak.com
DTSTART:20100424T010000Z
DTEND:20100424T010000Z
LOCATION;LANGUAGE=en;ENCODING=QUOTED-PRINTABLE:Corpus Christi King
TRANSP:OPAQUE
SEQUENCE:0
UID:6fc06e19669a062d28bcc2e32bea5fcc
DTSTAMP:20260420T154100
CATEGORIES;LANGUAGE=en;ENCODING=QUOTED-PRINTABLE:Event
DESCRIPTION;LANGUAGE=en;ENCODING=QUOTED-PRINTABLE:Corpus Christi Richard M. King vs Corpus Christi Mary Carroll  / Corpus Christi King
SUMMARY;LANGUAGE=en;ENCODING=QUOTED-PRINTABLE:Corpus Christi Richard M. King vs Corpus Christi Mary Carroll
PRIORITY:5
CLASS:PUBLIC
URL:http://www.pointstreak.com/baseball/
STATUS:CONFIRMED
END:VEVENT
BEGIN:VEVENT
ORGANIZER;CN=Pointstreak Sports Technologies Inc.:MAILTO:support@pointstreak.com
DTSTART:20100501T010000Z
DTEND:20100501T010000Z
LOCATION;LANGUAGE=en;ENCODING=QUOTED-PRINTABLE:Corpus Christi Carroll
TRANSP:OPAQUE
SEQUENCE:0
UID:787123fdb8de8826eb6a13937a02a41a
DTSTAMP:20260420T154100
CATEGORIES;LANGUAGE=en;ENCODING=QUOTED-PRINTABLE:Event
DESCRIPTION;LANGUAGE=en;ENCODING=QUOTED-PRINTABLE:Corpus Christi Mary Carroll vs Converse Judson  / Corpus Christi Carroll
SUMMARY;LANGUAGE=en;ENCODING=QUOTED-PRINTABLE:Corpus Christi Mary Carroll vs Converse Judson
PRIORITY:5
CLASS:PUBLIC
URL:http://www.pointstreak.com/baseball/
STATUS:CONFIRMED
END:VEVENT
END:VCALENDAR

