BEGIN:VCALENDAR
PRODID:-//www.pointstreak.com
VERSION:1.0
METHOD:PUBLISH
BEGIN:VEVENT
ORGANIZER;CN=Pointstreak Sports Technologies Inc.:MAILTO:support@pointstreak.com
DTSTART:20100223T000000Z
DTEND:20100223T000000Z
LOCATION;LANGUAGE=en;ENCODING=QUOTED-PRINTABLE:Pearland
TRANSP:OPAQUE
SEQUENCE:0
UID:9699fcd0a9a9e1087034b2f7f430594f
DTSTAMP:20260421T013800
CATEGORIES;LANGUAGE=en;ENCODING=QUOTED-PRINTABLE:Event
DESCRIPTION;LANGUAGE=en;ENCODING=QUOTED-PRINTABLE:Pearland vs Alvin  / Pearland
SUMMARY;LANGUAGE=en;ENCODING=QUOTED-PRINTABLE:Pearland vs Alvin
PRIORITY:5
CLASS:PUBLIC
URL:http://www.pointstreak.com/baseball/
STATUS:CONFIRMED
END:VEVENT
BEGIN:VEVENT
ORGANIZER;CN=Pointstreak Sports Technologies Inc.:MAILTO:support@pointstreak.com
DTSTART:20100227T220000Z
DTEND:20100227T220000Z
LOCATION;LANGUAGE=en;ENCODING=QUOTED-PRINTABLE:Pearland
TRANSP:OPAQUE
SEQUENCE:0
UID:6523fb1e5338ee86ff662f63e0e3c6ad
DTSTAMP:20260421T013800
CATEGORIES;LANGUAGE=en;ENCODING=QUOTED-PRINTABLE:Event
DESCRIPTION;LANGUAGE=en;ENCODING=QUOTED-PRINTABLE:Pearland vs Alvin  / Pearland
SUMMARY;LANGUAGE=en;ENCODING=QUOTED-PRINTABLE:Pearland vs Alvin
PRIORITY:5
CLASS:PUBLIC
URL:http://www.pointstreak.com/baseball/
STATUS:CONFIRMED
END:VEVENT
BEGIN:VEVENT
ORGANIZER;CN=Pointstreak Sports Technologies Inc.:MAILTO:support@pointstreak.com
DTSTART:20100310T010000Z
DTEND:20100310T010000Z
LOCATION;LANGUAGE=en;ENCODING=QUOTED-PRINTABLE:Alvin
TRANSP:OPAQUE
SEQUENCE:0
UID:f0b2adb136d5a1264f6d99fbca313c6d
DTSTAMP:20260421T013800
CATEGORIES;LANGUAGE=en;ENCODING=QUOTED-PRINTABLE:Event
DESCRIPTION;LANGUAGE=en;ENCODING=QUOTED-PRINTABLE:Alvin vs La Porte  / Alvin
SUMMARY;LANGUAGE=en;ENCODING=QUOTED-PRINTABLE:Alvin vs La Porte
PRIORITY:5
CLASS:PUBLIC
URL:http://www.pointstreak.com/baseball/
STATUS:CONFIRMED
END:VEVENT
END:VCALENDAR

