BEGIN:VCALENDAR
PRODID:-//www.pointstreak.com
VERSION:1.0
METHOD:PUBLISH
BEGIN:VEVENT
ORGANIZER;CN=Pointstreak Sports Technologies Inc.:MAILTO:support@pointstreak.com
DTSTART:20090812T000700Z
DTEND:20090812T000700Z
LOCATION;LANGUAGE=en;ENCODING=QUOTED-PRINTABLE:Copeland Park
TRANSP:OPAQUE
SEQUENCE:0
UID:f44d05c8e88b469f5535ec84d73f0e19
DTSTAMP:20260420T170300
CATEGORIES;LANGUAGE=en;ENCODING=QUOTED-PRINTABLE:Event
DESCRIPTION;LANGUAGE=en;ENCODING=QUOTED-PRINTABLE:La Crosse Loggers vs Eau Claire Express  / Copeland Park
SUMMARY;LANGUAGE=en;ENCODING=QUOTED-PRINTABLE:La Crosse Loggers vs Eau Claire Express
PRIORITY:5
CLASS:PUBLIC
URL:http://www.pointstreak.com/baseball/
STATUS:CONFIRMED
END:VEVENT
BEGIN:VEVENT
ORGANIZER;CN=Pointstreak Sports Technologies Inc.:MAILTO:support@pointstreak.com
DTSTART:20090812T233400Z
DTEND:20090812T233400Z
LOCATION;LANGUAGE=en;ENCODING=QUOTED-PRINTABLE:Carson Park
TRANSP:OPAQUE
SEQUENCE:0
UID:f54f95d40a44beca5c9fe515f1045eae
DTSTAMP:20260420T170300
CATEGORIES;LANGUAGE=en;ENCODING=QUOTED-PRINTABLE:Event
DESCRIPTION;LANGUAGE=en;ENCODING=QUOTED-PRINTABLE:Eau Claire Express vs La Crosse Loggers  / Carson Park
SUMMARY;LANGUAGE=en;ENCODING=QUOTED-PRINTABLE:Eau Claire Express vs La Crosse Loggers
PRIORITY:5
CLASS:PUBLIC
URL:http://www.pointstreak.com/baseball/
STATUS:CONFIRMED
END:VEVENT
END:VCALENDAR

